BEGIN:VCALENDAR
VERSION:2.0
PRODID:-//Hancock Health - ECPv6.15.20//NONSGML v1.0//EN
CALSCALE:GREGORIAN
METHOD:PUBLISH
X-WR-CALNAME:Hancock Health
X-ORIGINAL-URL:https://www.hancockhealth.org/zh
X-WR-CALDESC:Hancock Health的活动
REFRESH-INTERVAL;VALUE=DURATION:PT1H
X-Robots-Tag:noindex
X-PUBLISHED-TTL:PT1H
BEGIN:VTIMEZONE
TZID:UTC
BEGIN:STANDARD
TZOFFSETFROM:+0000
TZOFFSETTO:+0000
TZNAME:UTC
DTSTART:20230101T000000
END:STANDARD
END:VTIMEZONE
BEGIN:VEVENT
DTSTART;TZID=UTC:20240924T083000
DTEND;TZID=UTC:20240924T140000
DTSTAMP:20260423T145314
CREATED:20230829T231204Z
LAST-MODIFIED:20240104T021233Z
UID:10005427-1727166600-1727186400@www.hancockhealth.org
SUMMARY:Advanced Cardiac Life Support Recertification Class
DESCRIPTION:4 月\n          27\n        \n\n        Advanced Cardiac Life Support Recertification Class\n\n      \n\n      \n  \n        4 月\n        27\,\n         – \n        \n\n      \n\n      \n        Our Advanced Cardiac Life Support Recertification Class is designed for emergency and critical healthcare providers such as MDs\, nurses\, paramedics\, and others who have been previously certified in an ACLS course. Note: You must have current (non-expired) ACLS credentials to be eligible to take this recertification class. \nFor more information\, contact Jocelyn Morris at (317) 468-4551 or email jmorris@hancockregional.org. \n  \n      \n\n      \n\n\n    \n\n    \n\n      \n        Details\n\n        \n          DATE:\n          4 月 27\, 2026\n        \n\n        \n          TIME:\n           –\n          \n        \n\n                \n          CATEGORY:\n          Classes        \n        \n        \n      \n\n            \n        Venue\n        \n          Hancock Regional Hospital\n          801 N. State St.\, Greenfield\, IN        \n      \n      \n            \n        Organizer\n\n        \n          Hancock Health\n        \n\n                \n          Phone:\n          (317) 462-5544\n        \n        \n                \n          Email:\n          info@hancockregional.org
URL:https://www.hancockhealth.org/zh/event/advanced-cardiac-life-support-recertification-class/2024-09-24/
LOCATION:Hancock Regional Hospital\, 801 N. State St.\, Greenfield\, IN\, 46140\, United States
CATEGORIES:Classes
END:VEVENT
BEGIN:VEVENT
DTSTART;TZID=UTC:20240924T103000
DTEND;TZID=UTC:20240924T113000
DTSTAMP:20260423T145314
CREATED:20231102T001337Z
LAST-MODIFIED:20231102T002241Z
UID:10005356-1727173800-1727177400@www.hancockhealth.org
SUMMARY:Breastfeeding Support Group
DESCRIPTION:4 月\n          27\n        \n\n        Breastfeeding Support Group\n\n      \n\n      \n  \n        4 月\n        27\,\n         – \n        \n\n      \n\n      \n        Meet other breastfeeding moms in a FREE fun and informal environment. No appointment necessary; just drop in if you are nursing. \nCertified Lactation Consultants are available to offer support and guidance while you and your baby are getting to know each other. Scales are available to monitor your baby’s weight gain. This group is intended only for moms nursing babies or children. \nGroup Meets every Tuesday (except holidays) from 10:30 am – 11:30 am. Contact Katrina Leary  or Becky Fontaine or call at (317) 468-4397. \n      \n\n      \n\n\n    \n\n    \n\n      \n        Details\n\n        \n          DATE:\n          4 月 27\, 2026\n        \n\n        \n          TIME:\n           –\n          \n        \n\n                \n          CATEGORY:\n          Classes        \n        \n        \n      \n\n            \n        Venue\n        \n          Hancock Regional Hospital\n          801 N. State St.\, Greenfield\, IN        \n      \n      \n            \n        Organizer\n\n        \n          Hancock Health\n        \n\n                \n          Phone:\n          (317) 462-5544\n        \n        \n                \n          Email:\n          info@hancockregional.org
URL:https://www.hancockhealth.org/zh/event/breastfeeding-support-group/2024-09-24/
LOCATION:Hancock Regional Hospital\, 801 N. State St.\, Greenfield\, IN\, 46140\, United States
CATEGORIES:Support Groups
END:VEVENT
END:VCALENDAR