BEGIN:VCALENDAR
VERSION:2.0
PRODID:-//Hancock Health - ECPv6.15.20//NONSGML v1.0//EN
CALSCALE:GREGORIAN
METHOD:PUBLISH
X-WR-CALNAME:Hancock Health
X-ORIGINAL-URL:https://www.hancockhealth.org
X-WR-CALDESC:Events for Hancock Health
REFRESH-INTERVAL;VALUE=DURATION:PT1H
X-Robots-Tag:noindex
X-PUBLISHED-TTL:PT1H
BEGIN:VTIMEZONE
TZID:UTC
BEGIN:STANDARD
TZOFFSETFROM:+0000
TZOFFSETTO:+0000
TZNAME:UTC
DTSTART:20230101T000000
END:STANDARD
END:VTIMEZONE
BEGIN:VEVENT
DTSTART;TZID=UTC:20240806T113000
DTEND;TZID=UTC:20240806T113000
DTSTAMP:20260420T184554
CREATED:20240509T230626Z
LAST-MODIFIED:20240509T230631Z
UID:10005267-1722943800-1722943800@www.hancockhealth.org
SUMMARY:Ready\, Set\, Stroll!
DESCRIPTION:Apr\n          20\n        \n\n        Ready\, Set\, Stroll!\n\n      \n\n      \n  \n        April\n        20\,\n        6:45 pm – \n        6:45 pm\n\n      \n\n      \n        Ready\, Set\, stroll! is hosted by Hancock Wellness. Meet us on Tuesdays and Fridays at 11:30 a.m. at the Beckenholdt Park Parking Lot. Meet and greet with your guide of the week and then stroll along the walking paths at the park. Your guides include experts in fitness\, physical therapy\, nutrition\, mental wellness\, and maternity/postpartum care. For more information\, e-mail Abby at aglazier@hancockregional.org. \n      \n\n      \n\n\n    \n\n    \n\n      \n        Details\n\n        \n          DATE:\n          April 20\, 2026\n        \n\n        \n          TIME:\n          6:45 pm –\n          6:45 pm\n        \n\n        \n        \n      \n\n            \n        Venue\n        \n          Beckenholdt Park\n          2770 N. Franklin St.\, Greenfield\, IN        \n      \n      \n            \n        Organizer\n\n        \n          Hancock Wellness\n        \n\n                \n          Phone:\n          (317) 468-4743\n        \n        \n                \n          Email:\n          TGottschalk@hancockregional.org
URL:https://www.hancockhealth.org/event/ready-set-stroll-18/
LOCATION:Beckenholdt Park\, 2770 N. Franklin St.\, Greenfield\, IN\, 46140\, United States
CATEGORIES:Support Groups
END:VEVENT
BEGIN:VEVENT
DTSTART;TZID=UTC:20240802T113000
DTEND;TZID=UTC:20240802T113000
DTSTAMP:20260420T184554
CREATED:20240509T230540Z
LAST-MODIFIED:20240509T230545Z
UID:10005266-1722598200-1722598200@www.hancockhealth.org
SUMMARY:Ready\, Set\, Stroll!
DESCRIPTION:Apr\n          20\n        \n\n        Ready\, Set\, Stroll!\n\n      \n\n      \n  \n        April\n        20\,\n        6:45 pm – \n        6:45 pm\n\n      \n\n      \n        Ready\, Set\, stroll! is hosted by Hancock Wellness. Meet us on Tuesdays and Fridays at 11:30 a.m. at the Beckenholdt Park Parking Lot. Meet and greet with your guide of the week and then stroll along the walking paths at the park. Your guides include experts in fitness\, physical therapy\, nutrition\, mental wellness\, and maternity/postpartum care. For more information\, e-mail Abby at aglazier@hancockregional.org. \n      \n\n      \n\n\n    \n\n    \n\n      \n        Details\n\n        \n          DATE:\n          April 20\, 2026\n        \n\n        \n          TIME:\n          6:45 pm –\n          6:45 pm\n        \n\n        \n        \n      \n\n            \n        Venue\n        \n          Beckenholdt Park\n          2770 N. Franklin St.\, Greenfield\, IN        \n      \n      \n            \n        Organizer\n\n        \n          Hancock Health Connection Center\n        \n\n                \n          Phone:\n          (317) 468-4231
URL:https://www.hancockhealth.org/event/ready-set-stroll-17/
LOCATION:Beckenholdt Park\, 2770 N. Franklin St.\, Greenfield\, IN\, 46140\, United States
CATEGORIES:Support Groups
END:VEVENT
BEGIN:VEVENT
DTSTART;TZID=UTC:20240712T113000
DTEND;TZID=UTC:20240712T113000
DTSTAMP:20260420T184554
CREATED:20240509T230359Z
LAST-MODIFIED:20240509T230403Z
UID:10005260-1720783800-1720783800@www.hancockhealth.org
SUMMARY:Ready\, Set\, Stroll!
DESCRIPTION:Apr\n          20\n        \n\n        Ready\, Set\, Stroll!\n\n      \n\n      \n  \n        April\n        20\,\n        6:45 pm – \n        6:45 pm\n\n      \n\n      \n        Ready\, Set\, stroll! is hosted by Hancock Wellness. Meet us on Tuesdays and Fridays at 11:30 a.m. at the Beckenholdt Park Parking Lot. Meet and greet with your guide of the week and then stroll along the walking paths at the park. Your guides include experts in fitness\, physical therapy\, nutrition\, mental wellness\, and maternity/postpartum care. For more information\, e-mail Abby at aglazier@hancockregional.org. \n      \n\n      \n\n\n    \n\n    \n\n      \n        Details\n\n        \n          DATE:\n          April 20\, 2026\n        \n\n        \n          TIME:\n          6:45 pm –\n          6:45 pm\n        \n\n        \n        \n      \n\n            \n        Venue\n        \n          Beckenholdt Park\n          2770 N. Franklin St.\, Greenfield\, IN        \n      \n      \n            \n        Organizer\n\n        \n          Hancock Health Connection Center\n        \n\n                \n          Phone:\n          (317) 468-4231
URL:https://www.hancockhealth.org/event/ready-set-stroll-16/
LOCATION:Beckenholdt Park\, 2770 N. Franklin St.\, Greenfield\, IN\, 46140\, United States
CATEGORIES:Support Groups
END:VEVENT
BEGIN:VEVENT
DTSTART;TZID=UTC:20240709T113000
DTEND;TZID=UTC:20240709T113000
DTSTAMP:20260420T184554
CREATED:20240509T230312Z
LAST-MODIFIED:20240509T230317Z
UID:10005259-1720524600-1720524600@www.hancockhealth.org
SUMMARY:Ready\, Set\, Stroll!
DESCRIPTION:Apr\n          20\n        \n\n        Ready\, Set\, Stroll!\n\n      \n\n      \n  \n        April\n        20\,\n        6:45 pm – \n        6:45 pm\n\n      \n\n      \n        Ready\, Set\, stroll! is hosted by Hancock Wellness. Meet us on Tuesdays and Fridays at 11:30 a.m. at the Beckenholdt Park Parking Lot. Meet and greet with your guide of the week and then stroll along the walking paths at the park. Your guides include experts in fitness\, physical therapy\, nutrition\, mental wellness\, and maternity/postpartum care. For more information\, e-mail Abby at aglazier@hancockregional.org. \n      \n\n      \n\n\n    \n\n    \n\n      \n        Details\n\n        \n          DATE:\n          April 20\, 2026\n        \n\n        \n          TIME:\n          6:45 pm –\n          6:45 pm\n        \n\n        \n        \n      \n\n            \n        Venue\n        \n          Beckenholdt Park\n          2770 N. Franklin St.\, Greenfield\, IN        \n      \n      \n            \n        Organizer\n\n        \n          Hancock Health Connection Center\n        \n\n                \n          Phone:\n          (317) 468-4231
URL:https://www.hancockhealth.org/event/ready-set-stroll-15/
LOCATION:Beckenholdt Park\, 2770 N. Franklin St.\, Greenfield\, IN\, 46140\, United States
CATEGORIES:Support Groups
END:VEVENT
BEGIN:VEVENT
DTSTART;TZID=UTC:20240705T113000
DTEND;TZID=UTC:20240705T113000
DTSTAMP:20260420T184554
CREATED:20240509T230141Z
LAST-MODIFIED:20240509T230228Z
UID:10005258-1720179000-1720179000@www.hancockhealth.org
SUMMARY:Ready\, Set\, Stroll!
DESCRIPTION:Apr\n          20\n        \n\n        Ready\, Set\, Stroll!\n\n      \n\n      \n  \n        April\n        20\,\n        6:45 pm – \n        6:45 pm\n\n      \n\n      \n        Ready\, Set\, stroll! is hosted by Hancock Wellness. Meet us on Tuesdays and Fridays at 11:30 a.m. at the Beckenholdt Park Parking Lot. Meet and greet with your guide of the week and then stroll along the walking paths at the park. Your guides include experts in fitness\, physical therapy\, nutrition\, mental wellness\, and maternity/postpartum care. For more information\, e-mail Abby at aglazier@hancockregional.org. \n      \n\n      \n\n\n    \n\n    \n\n      \n        Details\n\n        \n          DATE:\n          April 20\, 2026\n        \n\n        \n          TIME:\n          6:45 pm –\n          6:45 pm\n        \n\n        \n        \n      \n\n            \n        Venue\n        \n          Beckenholdt Park\n          2770 N. Franklin St.\, Greenfield\, IN        \n      \n      \n            \n        Organizer\n\n        \n          Hancock Health Connection Center\n        \n\n                \n          Phone:\n          (317) 468-4231
URL:https://www.hancockhealth.org/event/ready-set-stroll-14/
LOCATION:Beckenholdt Park\, 2770 N. Franklin St.\, Greenfield\, IN\, 46140\, United States
CATEGORIES:Support Groups
END:VEVENT
BEGIN:VEVENT
DTSTART;TZID=UTC:20240702T113000
DTEND;TZID=UTC:20240702T113000
DTSTAMP:20260420T184554
CREATED:20240509T225940Z
LAST-MODIFIED:20240509T230052Z
UID:10005257-1719919800-1719919800@www.hancockhealth.org
SUMMARY:Ready\, Set\, Stroll!
DESCRIPTION:Apr\n          20\n        \n\n        Ready\, Set\, Stroll!\n\n      \n\n      \n  \n        April\n        20\,\n        6:45 pm – \n        6:45 pm\n\n      \n\n      \n        Ready\, Set\, stroll! is hosted by Hancock Wellness. Meet us on Tuesdays and Fridays at 11:30 a.m. at the Beckenholdt Park Parking Lot. Meet and greet with your guide of the week and then stroll along the walking paths at the park. Your guides include experts in fitness\, physical therapy\, nutrition\, mental wellness\, and maternity/postpartum care. For more information\, e-mail Abby at aglazier@hancockregional.org. \n      \n\n      \n\n\n    \n\n    \n\n      \n        Details\n\n        \n          DATE:\n          April 20\, 2026\n        \n\n        \n          TIME:\n          6:45 pm –\n          6:45 pm\n        \n\n        \n        \n      \n\n            \n        Venue\n        \n          Beckenholdt Park\n          2770 N. Franklin St.\, Greenfield\, IN        \n      \n      \n            \n        Organizer\n\n        \n          Hancock Health Connection Center\n        \n\n                \n          Phone:\n          (317) 468-4231
URL:https://www.hancockhealth.org/event/ready-set-stroll-13/
LOCATION:Beckenholdt Park\, 2770 N. Franklin St.\, Greenfield\, IN\, 46140\, United States
CATEGORIES:Support Groups
END:VEVENT
BEGIN:VEVENT
DTSTART;TZID=UTC:20240614T113000
DTEND;TZID=UTC:20240614T113000
DTSTAMP:20260420T184554
CREATED:20240509T225824Z
LAST-MODIFIED:20240509T225829Z
UID:10005252-1718364600-1718364600@www.hancockhealth.org
SUMMARY:Ready\, Set\, Stroll!
DESCRIPTION:Apr\n          20\n        \n\n        Ready\, Set\, Stroll!\n\n      \n\n      \n  \n        April\n        20\,\n        6:45 pm – \n        6:45 pm\n\n      \n\n      \n        Ready\, Set\, stroll! is hosted by Hancock Wellness. Meet us on Tuesdays and Fridays at 11:30 a.m. at the Beckenholdt Park Parking Lot. Meet and greet with your guide of the week and then stroll along the walking paths at the park. Your guides include experts in fitness\, physical therapy\, nutrition\, mental wellness\, and maternity/postpartum care. For more information\, e-mail Abby at aglazier@hancockregional.org. \n      \n\n      \n\n\n    \n\n    \n\n      \n        Details\n\n        \n          DATE:\n          April 20\, 2026\n        \n\n        \n          TIME:\n          6:45 pm –\n          6:45 pm\n        \n\n        \n        \n      \n\n            \n        Venue\n        \n          Beckenholdt Park\n          2770 N. Franklin St.\, Greenfield\, IN        \n      \n      \n            \n        Organizer\n\n        \n          Hancock Health Connection Center\n        \n\n                \n          Phone:\n          (317) 468-4231
URL:https://www.hancockhealth.org/event/ready-set-stroll-12/
LOCATION:Beckenholdt Park\, 2770 N. Franklin St.\, Greenfield\, IN\, 46140\, United States
CATEGORIES:Support Groups
END:VEVENT
BEGIN:VEVENT
DTSTART;TZID=UTC:20240611T113000
DTEND;TZID=UTC:20240611T113000
DTSTAMP:20260420T184554
CREATED:20240509T225727Z
LAST-MODIFIED:20240509T225732Z
UID:10005251-1718105400-1718105400@www.hancockhealth.org
SUMMARY:Ready\, Set\, Stroll!
DESCRIPTION:Apr\n          20\n        \n\n        Ready\, Set\, Stroll!\n\n      \n\n      \n  \n        April\n        20\,\n        6:45 pm – \n        6:45 pm\n\n      \n\n      \n        Ready\, Set\, stroll! is hosted by Hancock Wellness. Meet us on Tuesdays and Fridays at 11:30 a.m. at the Beckenholdt Park Parking Lot. Meet and greet with your guide of the week and then stroll along the walking paths at the park. Your guides include experts in fitness\, physical therapy\, nutrition\, mental wellness\, and maternity/postpartum care. For more information\, e-mail Abby at aglazier@hancockregional.org. \n      \n\n      \n\n\n    \n\n    \n\n      \n        Details\n\n        \n          DATE:\n          April 20\, 2026\n        \n\n        \n          TIME:\n          6:45 pm –\n          6:45 pm\n        \n\n        \n        \n      \n\n            \n        Venue\n        \n          Beckenholdt Park\n          2770 N. Franklin St.\, Greenfield\, IN        \n      \n      \n            \n        Organizer\n\n        \n          Hancock Health Connection Center\n        \n\n                \n          Phone:\n          (317) 468-4231
URL:https://www.hancockhealth.org/event/ready-set-stroll-11/
LOCATION:Beckenholdt Park\, 2770 N. Franklin St.\, Greenfield\, IN\, 46140\, United States
CATEGORIES:Support Groups
END:VEVENT
BEGIN:VEVENT
DTSTART;TZID=UTC:20240607T113000
DTEND;TZID=UTC:20240607T113000
DTSTAMP:20260420T184554
CREATED:20240509T225637Z
LAST-MODIFIED:20240509T225641Z
UID:10005250-1717759800-1717759800@www.hancockhealth.org
SUMMARY:Ready\, Set\, Stroll!
DESCRIPTION:Apr\n          20\n        \n\n        Ready\, Set\, Stroll!\n\n      \n\n      \n  \n        April\n        20\,\n        6:45 pm – \n        6:45 pm\n\n      \n\n      \n        Ready\, Set\, stroll! is hosted by Hancock Wellness. Meet us on Tuesdays and Fridays at 11:30 a.m. at the Beckenholdt Park Parking Lot. Meet and greet with your guide of the week and then stroll along the walking paths at the park. Your guides include experts in fitness\, physical therapy\, nutrition\, mental wellness\, and maternity/postpartum care. For more information\, e-mail Abby at aglazier@hancockregional.org. \n      \n\n      \n\n\n    \n\n    \n\n      \n        Details\n\n        \n          DATE:\n          April 20\, 2026\n        \n\n        \n          TIME:\n          6:45 pm –\n          6:45 pm\n        \n\n        \n        \n      \n\n            \n        Venue\n        \n          Beckenholdt Park\n          2770 N. Franklin St.\, Greenfield\, IN        \n      \n      \n            \n        Organizer\n\n        \n          Hancock Health Connection Center\n        \n\n                \n          Phone:\n          (317) 468-4231
URL:https://www.hancockhealth.org/event/ready-set-stroll-10/
LOCATION:Beckenholdt Park\, 2770 N. Franklin St.\, Greenfield\, IN\, 46140\, United States
CATEGORIES:Support Groups
END:VEVENT
BEGIN:VEVENT
DTSTART;TZID=UTC:20240604T113000
DTEND;TZID=UTC:20240604T113000
DTSTAMP:20260420T184554
CREATED:20240509T225548Z
LAST-MODIFIED:20240509T225550Z
UID:10005249-1717500600-1717500600@www.hancockhealth.org
SUMMARY:Ready\, Set\, Stroll!
DESCRIPTION:Apr\n          20\n        \n\n        Ready\, Set\, Stroll!\n\n      \n\n      \n  \n        April\n        20\,\n        6:45 pm – \n        6:45 pm\n\n      \n\n      \n        Ready\, Set\, stroll! is hosted by Hancock Wellness. Meet us on Tuesdays and Fridays at 11:30 a.m. at the Beckenholdt Park Parking Lot. Meet and greet with your guide of the week and then stroll along the walking paths at the park. Your guides include experts in fitness\, physical therapy\, nutrition\, mental wellness\, and maternity/postpartum care. For more information\, e-mail Abby at aglazier@hancockregional.org. \n      \n\n      \n\n\n    \n\n    \n\n      \n        Details\n\n        \n          DATE:\n          April 20\, 2026\n        \n\n        \n          TIME:\n          6:45 pm –\n          6:45 pm\n        \n\n        \n        \n      \n\n            \n        Venue\n        \n          Beckenholdt Park\n          2770 N. Franklin St.\, Greenfield\, IN        \n      \n      \n            \n        Organizer\n\n        \n          Hancock Health Connection Center\n        \n\n                \n          Phone:\n          (317) 468-4231
URL:https://www.hancockhealth.org/event/ready-set-stroll-9/
LOCATION:Beckenholdt Park\, 2770 N. Franklin St.\, Greenfield\, IN\, 46140\, United States
CATEGORIES:Support Groups
END:VEVENT
END:VCALENDAR