BEGIN:VCALENDAR
VERSION:2.0
PRODID:-//Hancock Health - ECPv6.15.20//NONSGML v1.0//EN
CALSCALE:GREGORIAN
METHOD:PUBLISH
X-ORIGINAL-URL:https://www.hancockhealth.org/ja
X-WR-CALDESC:Hancock Health のイベント
REFRESH-INTERVAL;VALUE=DURATION:PT1H
X-Robots-Tag:noindex
X-PUBLISHED-TTL:PT1H
BEGIN:VTIMEZONE
TZID:UTC
BEGIN:STANDARD
TZOFFSETFROM:+0000
TZOFFSETTO:+0000
TZNAME:UTC
DTSTART:20240101T000000
END:STANDARD
END:VTIMEZONE
BEGIN:VEVENT
DTSTART;TZID=UTC:20251103T114500
DTEND;TZID=UTC:20251103T124500
DTSTAMP:20260420T013240
CREATED:20240917T150554Z
LAST-MODIFIED:20240917T150555Z
UID:10005615-1762170300-1762173900@www.hancockhealth.org
SUMMARY:Sisters and Brothers in Sobriety Closed* Meetings
DESCRIPTION:4月\n          27\n        \n\n        Sisters and Brothers in Sobriety Closed* Meetings\n\n      \n\n      \n  \n        4月\n        27\,\n         – \n        \n\n      \n\n      \n        In support of A.A.’s singleness of purpose\, attendance at closed meetings is limited to persons who have a desire to stop drinking. If you think you have a problem with alcohol\, you are welcome to attend this meeting. Classes meet in the Education Room. Childcare available (with fee). \n      \n\n      \n\n\n    \n\n    \n\n      \n        Details\n\n        \n          DATE:\n          4月 27\, 2026\n        \n\n        \n          TIME:\n           –\n          \n        \n\n                \n          CATEGORY:\n          Classes        \n        \n        \n      \n\n            \n        Venue\n        \n          Hancock Wellness – McCordsville\n          8505 N. Clearview Dr.\, McCordsville\, IN        \n      \n      \n            \n        Organizer\n\n        \n          Sisters and Brothers in Sobriety\n        \n\n        \n                \n          Email:\n          mbergamo@hancockhealth.org
URL:https://www.hancockhealth.org/ja/event/sisters-and-brothers-in-sobriety-closed-meetings/2025-11-03/
LOCATION:Hancock Wellness – McCordsville\, 8505 N. Clearview Dr.\, McCordsville\, IN\, 46055\, United States
CATEGORIES:Support Groups
END:VEVENT
BEGIN:VEVENT
DTSTART;TZID=UTC:20251105T173000
DTEND;TZID=UTC:20251105T193000
DTSTAMP:20260420T013240
CREATED:20250527T152221Z
LAST-MODIFIED:20250702T192639Z
UID:10005771-1762363800-1762371000@www.hancockhealth.org
SUMMARY:Question\, Persuade\, Refer (QPR) at HWC McCordsville
DESCRIPTION:4月\n          27\n        \n\n        QPR Suicide Prevention Training \n\n      \n\n      \n  \n        4月\n        27\,\n         – \n        \n\n      \n\n      \n        Just like CPR\, QPR is an emergency response that you can learn to save someone’s life if they are considering self-harm or suicide. Let us help you find a local QPR suicide prevention training right here in Hancock County. \nIf you are interested in hosting or attending a QPR class\, contact a Support Navigator at (317) 468-4231 or register online by clicking the button below. \n      \n\n      \n\n\n    \n\n    \n\n      \n        Details\n\n        \n          DATE:\n          4月 27\, 2026\n        \n\n        \n          TIME:\n           –\n          \n        \n\n                \n          CATEGORY:\n          Classes        \n        \n        \n      \n\n            \n        Venue\n        \n          Hancock Wellness – McCordsville\n          8505 N. Clearview Dr.\, McCordsville\, IN        \n      \n      \n            \n        Organizer\n\n        \n          Hancock Health\n        \n\n                \n          Phone:\n          (317) 462-5544\n        \n        \n                \n          Email:\n          info@hancockregional.org\n        \n              \n      \n\n    \n\n  \n\n\n\n\n\n\n\n\n\n\n\n\n\nQPR\n\n\n\n\n\n\n\nPlease call the Hancock Health Connection Center office at 317-468-4231 if you have any questions about the online form. All the information you provide is strictly confidential.\n\nATTENDEE INFORMATION\n\n\n\n    Select Training Session\n        \n    \n    		\n		November 5th – 5:30p- 7:30p at Hancock Wellness Center McCordsville	\n	\n    \n    \n\n\n    Organization\n        \n    \n    \n    \n    \n\n\n    Address\n        *\n    \n    \n\n	Address\n\n\n	\n		Address	\n		\n	\n\n	\n		Address	\n		\n	\n\n	\n		City	\n		\n	City\n\n	\n		State/Province	\n		\n	State/Province\n\n	\n		Zip/Postal	\n		\n	Zip/Postal\n\n	\n		Country	\n			\n			\n				 			\n			アイスランドアイルランドアゼルバイジャンアフガニスタンアメリカ合衆国アメリカ領サモアアメリカ領ヴァージン諸島アラブ首長国連邦アルジェリアアルゼンチンアルバアルバニアアルメニアアンギラアンゴラアンティグア・バーブーダアンドライエメンイギリスイギリス領インド洋地域イギリス領ヴァージン諸島イスラエルイタリアイラクイランインドインドネシアウォリス・フツナウガンダウクライナウズベキスタンウルグアイエクアドルエジプトエストニアエチオピアエリトリアエルサルバドルオマーンオランダオーストラリアオーストリアオーランド諸島カザフスタンカタールカナダカメルーンカンボジアカーボベルデガイアナガボンガンビアガーナガーンジーキプロスキュラソーキューバキリバスキルギスタンギニアギニアビサウギリシャクウェートクック諸島クリスマス島クロアチアグアテマラグアドループグアムグリーンランドグレナダケイマン諸島ケニアココス (キーリング) 諸島コスタリカコソボコモロコロンビアコンゴ共和国コートジボワールサウジアラビアサウスジョージア・サウスサンドウィッチ諸島サモアサントメ・プリンシペサンピエール・ミクロン島サンマリノサン・バルテルミー島サン・マルタン (フランス領)ザンビアシエラレオネシリアシンガポールシント・マールテン (オランダ領)ジブチジブラルタルジャマイカジャージー島ジョージアジンバブエスイススウェーデンスバールバル諸島ヤンマイエン島スペインスリナムスリランカスロバキアスロベニアスワジランドスーダンセイシェルセネガルセルビアセントクリストファー・ネイビスセントビンセントとグレナディーンセントヘレナ・アセンションおよびトリスタンダクーニャセントルシアソマリアソロモン諸島タイタジキスタンタンザニアタークス・カイコス諸島チェコ共和国チャドチュニジアチリツバルデンマークトケラウトリニダード・トバゴトルクメニスタントルコトンガトーゴドイツドミニカドミニカ共和国ナイジェリアナウルナミビアニウエニカラグアニジェールニューカレドニアニュージーランドネパールノルウェーノーフォーク島ハイチハンガリーハード島とマクドナルド諸島バチカン市国バヌアツバハマバミューダ島バルバドスバングラデシュバーレーンパキスタンパナマパプアニューギニアパラウパラグアイパレスチナピトケアン諸島フィジーフィリピンフィンランドフェロー諸島フォークランド諸島 (マルビナス)フランスフランス領ギアナフランス領ポリネシアフランス領南方・南極地域ブラジルブルガリアブルキナファソブルネイブルンジブータンブーベ島プエルトリコベトナムベニンベネズエラベラルーシベリーズベルギーペルーホンジュラスボスニア・ヘルツェゴビナボツワナボネール、シント・ユースタティウスおよびサバボリビアポルトガルポーランドマカオマケドニアマダガスカルマヨットマラウイマリマルタマルティニークマレーシアマン島マーシャル諸島ミクロネシアミャンマーメキシコモザンビークモナコモルディブモルドバモロッコモンゴルモンテネグロモントセラートモーリシャスモーリタニアヨルダンラオスラトビアリトアニアリヒテンシュタインリビアリベリアルクセンブルクルワンダルーマニアレソトレバノンレユニオンロシア中国中央アフリカ共和国北マリアナ諸島北朝鮮南アフリカ南スーダン南極台湾合衆国領有小離島教皇庁日本東チモール東ティモール西サハラ赤道ギニア韓国香港		\n	Country\n\n	\n		Address	\n		\n	\n\n\n\n    \n    \n\n\n    Phone\n        \n    \n    \n    \n    \n\n\n    Select Number of Attendees\n        *\n    \n    		\n		1234	\n	\n    \n    \n\n\n    Attendee #1\n        \n    \n    \n    \n    \n\n\n    Title\n        \n    \n    \n    \n    \n\n\n    Email\n        \n    \n    \n    \n    \n\n\n    Attendee #2\n        \n    \n    \n    \n    \n\n\n    Title\n        \n    \n    \n    \n    \n\n\n    Email\n        \n    \n    \n    \n    \n\n\n    Attendee #3\n        \n    \n    \n    \n    \n\n\n    Title\n        \n    \n    \n    \n    \n\n\n    Email\n        \n    \n    \n    \n    \n\n\n    Attendee #4\n        \n    \n    \n    \n    \n\n\n    Title\n        \n    \n    \n    \n    \n\n\n    Email\n        \n    \n    \n    \n    \n\n\n\n	\nSubmit\n\n\n\n\n\n	\n			\n			\n				あなたが人間の場合、このフィールドは空白のままにしてください。
URL:https://www.hancockhealth.org/ja/event/question-persuade-refer-qpr-4/
LOCATION:Hancock Wellness New Palestine\, 4055 S. Roy Wilson Way\, New Palestine\, IN\, 46163\, United States
CATEGORIES:Classes
END:VEVENT
END:VCALENDAR