BEGIN:VCALENDAR
VERSION:2.0
PRODID:-//Hancock Health - ECPv6.15.20//NONSGML v1.0//EN
CALSCALE:GREGORIAN
METHOD:PUBLISH
X-ORIGINAL-URL:https://www.hancockhealth.org/fr
X-WR-CALDESC:Évènements pour Hancock Health
REFRESH-INTERVAL;VALUE=DURATION:PT1H
X-Robots-Tag:noindex
X-PUBLISHED-TTL:PT1H
BEGIN:VTIMEZONE
TZID:UTC
BEGIN:STANDARD
TZOFFSETFROM:+0000
TZOFFSETTO:+0000
TZNAME:UTC
DTSTART:20230101T000000
END:STANDARD
END:VTIMEZONE
BEGIN:VEVENT
DTSTART;TZID=UTC:20241219T083000
DTEND;TZID=UTC:20241219T140000
DTSTAMP:20260423T061425
CREATED:20230829T231204Z
LAST-MODIFIED:20240104T021233Z
UID:10005430-1734597000-1734616800@www.hancockhealth.org
SUMMARY:Advanced Cardiac Life Support Recertification Class
DESCRIPTION:Avr\n          27\n        \n\n        Advanced Cardiac Life Support Recertification Class\n\n      \n\n      \n  \n        avril\n        27\,\n         – \n        \n\n      \n\n      \n        Our Advanced Cardiac Life Support Recertification Class is designed for emergency and critical healthcare providers such as MDs\, nurses\, paramedics\, and others who have been previously certified in an ACLS course. Note: You must have current (non-expired) ACLS credentials to be eligible to take this recertification class. \nFor more information\, contact Jocelyn Morris at (317) 468-4551 or email jmorris@hancockregional.org. \n  \n      \n\n      \n\n\n    \n\n    \n\n      \n        Details\n\n        \n          DATE:\n          avril 27\, 2026\n        \n\n        \n          TIME:\n           –\n          \n        \n\n                \n          CATEGORY:\n          Classes        \n        \n        \n      \n\n            \n        Venue\n        \n          Hancock Regional Hospital\n          801 N. State St.\, Greenfield\, IN        \n      \n      \n            \n        Organizer\n\n        \n          Hancock Health\n        \n\n                \n          Phone:\n          (317) 462-5544\n        \n        \n                \n          Email:\n          info@hancockregional.org
URL:https://www.hancockhealth.org/fr/event/advanced-cardiac-life-support-recertification-class/2024-12-19/
LOCATION:Hancock Regional Hospital\, 801 N. State St.\, Greenfield\, IN\, 46140\, United States
CATEGORIES:Classes
END:VEVENT
BEGIN:VEVENT
DTSTART;TZID=UTC:20241219T100000
DTEND;TZID=UTC:20241219T110000
DTSTAMP:20260423T061425
CREATED:20230915T200510Z
LAST-MODIFIED:20231101T215207Z
UID:10004567-1734602400-1734606000@www.hancockhealth.org
SUMMARY:Senior Social
DESCRIPTION:Avr\n          27\n        \n\n        Senior Social\n\n      \n\n      \n  \n        avril\n        27\,\n         – \n        \n\n      \n\n      \n        This FREE and informal gathering is held every Thursday and is open to anyone—no membership required! Fun activities\, such as speakers on a variety of topics\, gentle exercise for mind and body\, nutrition information\, and senior trivia are planned for the first part of the hour\, with the remaining time for casual conversation and light refreshments. \nGroup meets every Thursday from 10 a.m. to 11 a.m. at Hancock Wellness Center\, 8505 N. Clearview Dr.\, McCordsville\, IN. \nContact tgottschalk@hancockregional.org or (317) 468-4743 for info. \n      \n\n      \n\n\n    \n\n    \n\n      \n        Details\n\n        \n          DATE:\n          avril 27\, 2026\n        \n\n        \n          TIME:\n           –\n          \n        \n\n                \n          CATEGORY:\n          Classes        \n        \n        \n      \n\n            \n        Venue\n        \n          Hancock Wellness – McCordsville\n          8505 N. Clearview Dr.\, McCordsville\, IN        \n      \n      \n            \n        Organizer\n\n        \n          Hancock Health Connection Center\n        \n\n                \n          Phone:\n          (317) 468-4231
URL:https://www.hancockhealth.org/fr/event/senior-social-2/2024-12-19/
LOCATION:Hancock Wellness – McCordsville\, 8505 N. Clearview Dr.\, McCordsville\, IN\, 46055\, United States
CATEGORIES:Support Groups
END:VEVENT
END:VCALENDAR