BEGIN:VCALENDAR
VERSION:2.0
PRODID:-//Hancock Health - ECPv6.15.20//NONSGML v1.0//EN
CALSCALE:GREGORIAN
METHOD:PUBLISH
X-WR-CALNAME:Hancock Health
X-ORIGINAL-URL:https://www.hancockhealth.org/fr
X-WR-CALDESC:Évènements pour Hancock Health
REFRESH-INTERVAL;VALUE=DURATION:PT1H
X-Robots-Tag:noindex
X-PUBLISHED-TTL:PT1H
BEGIN:VTIMEZONE
TZID:UTC
BEGIN:STANDARD
TZOFFSETFROM:+0000
TZOFFSETTO:+0000
TZNAME:UTC
DTSTART:20230101T000000
END:STANDARD
END:VTIMEZONE
BEGIN:VEVENT
DTSTART;TZID=UTC:20241129T100000
DTEND;TZID=UTC:20241129T110000
DTSTAMP:20260423T023203
CREATED:20230915T201048Z
LAST-MODIFIED:20231101T221929Z
UID:10004301-1732874400-1732878000@www.hancockhealth.org
SUMMARY:Grief Support
DESCRIPTION:Avr\n          27\n        \n\n        Grief Support\n\n      \n\n      \n  \n        avril\n        27\,\n         – \n        \n\n      \n\n      \n        In this free drop-in group\, we welcome everyone who is experiencing grief as a result of losing a loved one. Come be with others who are traveling the same road. \nThe group is designed as a drop-in group so that participants can be free to come whenever they need support—no commitment required. Questions? Contact Chaplain Katherine at kmurray@suburbanhospice.org. Group meets on Fridays from 10 a.m. to 11 a.m. at Hancock Wellness Center – Greenfield\, 888 W. New Rd.\, Greenfield\, IN. \n      \n\n      \n\n\n    \n\n    \n\n      \n        Details\n\n        \n          DATE:\n          avril 27\, 2026\n        \n\n        \n          TIME:\n           –\n          \n        \n\n                \n          CATEGORY:\n          Classes        \n        \n        \n      \n\n            \n        Venue\n        \n          Hancock Wellness Center Greenfield\n          888 W. New Rd.\, Greenfield\, IN        \n      \n      \n            \n        Organizer\n\n        \n          Suburban Hospice\n        \n\n                \n          Phone:\n          1-833-888-7222
URL:https://www.hancockhealth.org/fr/event/grief-support-2/2024-11-29/
LOCATION:Hancock Wellness Center Greenfield\, 888 W. New Rd.\, Greenfield\, IN\, 46140\, United States
CATEGORIES:Support Groups
END:VEVENT
END:VCALENDAR