BEGIN:VCALENDAR
VERSION:2.0
PRODID:-//Hancock Health - ECPv6.15.20//NONSGML v1.0//EN
CALSCALE:GREGORIAN
METHOD:PUBLISH
X-ORIGINAL-URL:https://www.hancockhealth.org/fr
X-WR-CALDESC:Évènements pour Hancock Health
REFRESH-INTERVAL;VALUE=DURATION:PT1H
X-Robots-Tag:noindex
X-PUBLISHED-TTL:PT1H
BEGIN:VTIMEZONE
TZID:UTC
BEGIN:STANDARD
TZOFFSETFROM:+0000
TZOFFSETTO:+0000
TZNAME:UTC
DTSTART:20230101T000000
END:STANDARD
END:VTIMEZONE
BEGIN:VEVENT
DTSTART;TZID=UTC:20241121T083000
DTEND;TZID=UTC:20241121T150000
DTSTAMP:20260423T061428
CREATED:20230830T091240Z
LAST-MODIFIED:20240104T030122Z
UID:10005460-1732177800-1732201200@www.hancockhealth.org
SUMMARY:Pediatric Advanced Life Support (PALS) Recertification Class
DESCRIPTION:Avr\n          27\n        \n\n        Pediatric Advanced Life Support (PALS) Recertification Class\n\n      \n\n      \n  \n        avril\n        27\,\n         – \n        \n\n      \n\n      \n        This recertification class is designed for pediatricians\, house staff\, emergency and family physicians\, nurses\, paramedics\, and any other healthcare providers who have previously received PALS certification. For more information\, contact Jocelyn Morris at (317) 468-4551 or email jmorris@hancockregional.org. \n      \n\n      \n\n\n    \n\n    \n\n      \n        Details\n\n        \n          DATE:\n          avril 27\, 2026\n        \n\n        \n          TIME:\n           –\n          \n        \n\n                \n          CATEGORY:\n          Classes        \n        \n        \n      \n\n            \n        Venue\n        \n          Hancock Regional Hospital\n          801 N. State St.\, Greenfield\, IN        \n      \n      \n            \n        Organizer\n\n        \n          Hancock Health\n        \n\n                \n          Phone:\n          (317) 462-5544\n        \n        \n                \n          Email:\n          info@hancockregional.org\n        \n              \n      \n\n    \n\n  \n\n\n\n\n\n\n\n\n\n\n\n\n\nPEDIATRIC ADVANCED LIFE SUPPORT (PALS) RECERTIFICATION\n\n\n\n\n\n\n\n\nPayment Identification\n\n\n\n    Attendee’s Name\n        *\n    \n    \n    \n    \n\n\n    DOB\n        *\n    \n    \n    \n    \n\n\n    Email\n        *\n    \n    \n    \n    \n\n\n    Address\n        *\n    \n    \n\n	Address\n\n\n	\n		Address	\n		\n	\n\n	\n		Address	\n		\n	\n\n	\n		City	\n		\n	City\n\n	\n		State/Province	\n			\n			\n				 			\n			AlabamaAlaskaArkansasArizonaCaliforniaColoradoConnecticutDelawareDistrict of ColumbiaFloridaGeorgiaHawaiiIdahoIllinoisIndianaIowaKansasKentuckyLouisianaMaineMarylandMassachusettsMichiganMinnesotaMississippiMissouriMontanaNebraskaNevadaNew HampshireNew JerseyNew MexicoNew YorkNorth CarolinaNorth DakotaOhioOklahomaOregonPennsylvaniaRhode IslandSouth CarolinaSouth DakotaTennesseeTexasUtahVermontVirginiaWashingtonWest VirginiaWisconsinWyoming		\n	State/Province\n\n	\n		Zip/Postal	\n		\n	Zip/Postal\n\n	\n		Address	\n		\n	\n\n\n\n    \n    \n\n\n    Course Name\n        \n    \n    \n    \n    \n\n\n    Course Date and Time\n        *\n    \n    		\n		Select Date and TimeFebruary 15\, 2024 – 8:30 a.m. – 3 p.m.May 1\, 2024 – 8:30 a.m. – 3 p.m.August 29\, 2024 – 8:30 a.m. – 3 p.m.November 21\, 2024 – 8:30 a.m. – 3 p.m.	\n	\n    \n    \n\n\n    Course Description\n        \n    \n    \n    \n    \n\n\n    Class ID Code\n        \n    \n    \n    \n    \n\n\n    Course Options\n        \n    \n    \n    \n    \n\n\n    Transaction Amount\n        *\n    \n    \n    \n    \n\n\n\nBilling Information\n\n\n\n    Card Holder\n        *\n    \n    \n    \n    \n\n\n    Address\n        *\n    \n    \n\n	Address\n\n\n	\n		Address	\n		\n	\n\n	\n		Address	\n		\n	\n\n	\n		City	\n		\n	City\n\n	\n		State/Province	\n			\n			\n				 			\n			AlabamaAlaskaArkansasArizonaCaliforniaColoradoConnecticutDelawareDistrict of ColumbiaFloridaGeorgiaHawaiiIdahoIllinoisIndianaIowaKansasKentuckyLouisianaMaineMarylandMassachusettsMichiganMinnesotaMississippiMissouriMontanaNebraskaNevadaNew HampshireNew JerseyNew MexicoNew YorkNorth CarolinaNorth DakotaOhioOklahomaOregonPennsylvaniaRhode IslandSouth CarolinaSouth DakotaTennesseeTexasUtahVermontVirginiaWashingtonWest VirginiaWisconsinWyoming		\n	State/Province\n\n	\n		Zip/Postal	\n		\n	Zip/Postal\n\n	\n		Address	\n		\n	\n\n\n\n    \n    \n\n\n    Contact Phone\n        *\n    \n    \n    \n    \n\n\n    Contact Email\n        *\n    \n    \n    \n    \n\n\n    Credit Card\n        *\n    \n    \n\n\n\n    \n    \n\n\n		\n			\n			\n			\n				Si vous êtes un humain\, ne remplissez pas ce champ.			\n			\n		\n		\n\nSubmit
URL:https://www.hancockhealth.org/fr/event/pediatric-advanced-life-support-pals-recertification-class/2024-11-21/
LOCATION:Hancock Regional Hospital\, 801 N. State St.\, Greenfield\, IN\, 46140\, United States
CATEGORIES:Classes
END:VEVENT
BEGIN:VEVENT
DTSTART;TZID=UTC:20241121T100000
DTEND;TZID=UTC:20241121T110000
DTSTAMP:20260423T061428
CREATED:20230915T200510Z
LAST-MODIFIED:20231101T215207Z
UID:10004563-1732183200-1732186800@www.hancockhealth.org
SUMMARY:Senior Social
DESCRIPTION:Avr\n          27\n        \n\n        Senior Social\n\n      \n\n      \n  \n        avril\n        27\,\n         – \n        \n\n      \n\n      \n        This FREE and informal gathering is held every Thursday and is open to anyone—no membership required! Fun activities\, such as speakers on a variety of topics\, gentle exercise for mind and body\, nutrition information\, and senior trivia are planned for the first part of the hour\, with the remaining time for casual conversation and light refreshments. \nGroup meets every Thursday from 10 a.m. to 11 a.m. at Hancock Wellness Center\, 8505 N. Clearview Dr.\, McCordsville\, IN. \nContact tgottschalk@hancockregional.org or (317) 468-4743 for info. \n      \n\n      \n\n\n    \n\n    \n\n      \n        Details\n\n        \n          DATE:\n          avril 27\, 2026\n        \n\n        \n          TIME:\n           –\n          \n        \n\n                \n          CATEGORY:\n          Classes        \n        \n        \n      \n\n            \n        Venue\n        \n          Hancock Wellness – McCordsville\n          8505 N. Clearview Dr.\, McCordsville\, IN        \n      \n      \n            \n        Organizer\n\n        \n          Hancock Health Connection Center\n        \n\n                \n          Phone:\n          (317) 468-4231
URL:https://www.hancockhealth.org/fr/event/senior-social-2/2024-11-21/
LOCATION:Hancock Wellness – McCordsville\, 8505 N. Clearview Dr.\, McCordsville\, IN\, 46055\, United States
CATEGORIES:Support Groups
END:VEVENT
END:VCALENDAR