BEGIN:VCALENDAR
VERSION:2.0
PRODID:-//Hancock Health - ECPv6.15.20//NONSGML v1.0//EN
CALSCALE:GREGORIAN
METHOD:PUBLISH
X-WR-CALNAME:Hancock Health
X-ORIGINAL-URL:https://www.hancockhealth.org
X-WR-CALDESC:Events for Hancock Health
REFRESH-INTERVAL;VALUE=DURATION:PT1H
X-Robots-Tag:noindex
X-PUBLISHED-TTL:PT1H
BEGIN:VTIMEZONE
TZID:UTC
BEGIN:STANDARD
TZOFFSETFROM:+0000
TZOFFSETTO:+0000
TZNAME:UTC
DTSTART:20230101T000000
END:STANDARD
END:VTIMEZONE
BEGIN:VEVENT
DTSTART;TZID=UTC:20241230T110000
DTEND;TZID=UTC:20241230T120000
DTSTAMP:20260422T225214
CREATED:20230915T201449Z
LAST-MODIFIED:20230918T223330Z
UID:10004016-1735556400-1735560000@www.hancockhealth.org
SUMMARY:Cancer Patient Support
DESCRIPTION:Apr\n          27\n        \n\n        Cancer Patient Support\n\n      \n\n      \n  \n        April\n        27\,\n         – \n        \n\n      \n\n      \n        This class is for anyone with a cancer diagnosis who is currently in treatment\, never received treatment\, or done with treatment. It meets every Monday from 11 a.m. to 12 p.m. in the Resource Lounge area of the Sue Ann Wortman Cancer Center beginning Monday\, June 6\, 2023. This is a drop- in group\, no reservation necessary. \nQuestions regarding this group can be directed to abender@hancockregional.org or (317) 325-2643. \n      \n\n      \n\n\n    \n\n    \n\n      \n        Details\n\n        \n          DATE:\n          April 27\, 2026\n        \n\n        \n          TIME:\n           –\n          \n        \n\n                \n          CATEGORY:\n          Classes        \n        \n        \n      \n\n            \n        Venue\n        \n          Sue Ann Wortman Cancer Center\n          801 N. State St.\, Greenfield\, IN        \n      \n      \n            \n        Organizer\n\n        \n          Hancock Health\n        \n\n                \n          Phone:\n          (317) 462-5544\n        \n        \n                \n          Email:\n          info@hancockregional.org
URL:https://www.hancockhealth.org/event/cancer-patient-support-3/2024-12-30/
LOCATION:Sue Ann Wortman Cancer Center\, 801 N. State St.\, Greenfield\, IN\, 46140\, United States
CATEGORIES:Support Groups
END:VEVENT
BEGIN:VEVENT
DTSTART;TZID=UTC:20241230T114500
DTEND;TZID=UTC:20241230T124500
DTSTAMP:20260422T225214
CREATED:20240917T150554Z
LAST-MODIFIED:20240917T150555Z
UID:10005571-1735559100-1735562700@www.hancockhealth.org
SUMMARY:Sisters and Brothers in Sobriety Closed* Meetings
DESCRIPTION:Apr\n          27\n        \n\n        Sisters and Brothers in Sobriety Closed* Meetings\n\n      \n\n      \n  \n        April\n        27\,\n         – \n        \n\n      \n\n      \n        In support of A.A.’s singleness of purpose\, attendance at closed meetings is limited to persons who have a desire to stop drinking. If you think you have a problem with alcohol\, you are welcome to attend this meeting. Classes meet in the Education Room. Childcare available (with fee). \n      \n\n      \n\n\n    \n\n    \n\n      \n        Details\n\n        \n          DATE:\n          April 27\, 2026\n        \n\n        \n          TIME:\n           –\n          \n        \n\n                \n          CATEGORY:\n          Classes        \n        \n        \n      \n\n            \n        Venue\n        \n          Hancock Wellness – McCordsville\n          8505 N. Clearview Dr.\, McCordsville\, IN        \n      \n      \n            \n        Organizer\n\n        \n          Sisters and Brothers in Sobriety\n        \n\n        \n                \n          Email:\n          mbergamo@hancockhealth.org
URL:https://www.hancockhealth.org/event/sisters-and-brothers-in-sobriety-closed-meetings/2024-12-30/
LOCATION:Hancock Wellness – McCordsville\, 8505 N. Clearview Dr.\, McCordsville\, IN\, 46055\, United States
CATEGORIES:Support Groups
END:VEVENT
BEGIN:VEVENT
DTSTART;TZID=UTC:20241230T170000
DTEND;TZID=UTC:20241230T180000
DTSTAMP:20260422T225214
CREATED:20230830T045418Z
LAST-MODIFIED:20230918T224714Z
UID:10004172-1735578000-1735581600@www.hancockhealth.org
SUMMARY:Car Seat Safety Check
DESCRIPTION:Apr\n          27\n        \n\n        Car Seat Safety Check\n\n      \n\n      \n  \n        April\n        27\,\n         – \n        \n\n      \n\n      \n        At Hancock Health\, our goal is to encourage the proper use of car seats and ensure that all children are riding safely. Hancock Health offers a FREE car seat program. As a permanent fitting station\, we offer one on one appointments with a Certified Child Passenger Safety Technician (CPST) to parents and caregivers. Schedule your appointment below. \nOur CPSTs will check the child’s current car seat for recalls\, check for proper fit and installation\, provide education to the parent/caregiver on how to properly use and install the car seat\, and provide a new seat if necessary (recipients must meet financial guidelines\, please inquire). \nOur program coordinator is also available to answer your questions or help you decide on a car seat purchase. Appointments last approximately 30 minutes per child/seat. For more information\, e-mail Leah Reynolds at lreynolds2@hancockregional.org \n      \n\n      \n\n\n    \n\n    \n\n      \n        Details\n\n        \n          DATE:\n          April 27\, 2026\n        \n\n        \n          TIME:\n           –\n          \n        \n\n                \n          CATEGORY:\n          Classes        \n        \n        \n      \n\n            \n        Venue\n        \n          Hancock Regional Hospital\n          801 N. State St.\, Greenfield\, IN        \n      \n      \n            \n        Organizer\n\n        \n          Hancock Health\n        \n\n                \n          Phone:\n          (317) 462-5544\n        \n        \n                \n          Email:\n          info@hancockregional.org\n        \n              \n      \n\n    \n\n  \n\n\n\n\n\n\n\n\n\n\n\n\n\nCar Seat Safety Check\n\n\n\n\n\n\n\n\n    Name\n        *\n    \n    \n    First\n    \n\n\n    Last\n        *\n    \n    \n    Last\n    \n\n\n    Email\n        *\n    \n    \n    \n    \n\n\n    Phone\n        *\n    \n    \n    Format: (999)999-9999\n    \n\n\n    Can this number receive text reminders of your appointment?\n        \n    \n    		\n		 YesNo	\n	\n    \n    \n\n		\n		\n    Preferred Appointment\n        \n    \n    		\n		 May 2\, 5:00pmMay 2\, 6:00pmMay 4\, 5:00pmMay 5\, 5:00pmMay 8\, 5:00pmMay 9\, 5:00pmMay 9\, 6:00pmMay 12\, 5:00pmMay 15\, 5:00pmMay 16\, 5:00pmMay 16\, 6:00pmMay 18\, 7:00pmMay 19\, 4:00pmMay 21\, 9:00amMay 21\, 9:00amMay 21\, 10:00amMay 21\, 10:00amMay 23\, 5:00pmMay 23\, 6:00pmMay 25\, 7:00pmMay 28\, 9:00amMay 28\, 10:00amMay 29\, 5:00pmMay 30\, 5:00pmMay 30\, 6:00pmJune 1\, 7:00pm	\n	Preferred Appointment\n    \n    \n\n\n    Vehicle Information\n        \n    \n    \n    List vehicle color\, make\, model\, and year.\n    \n\n\n    Due Date if expecting\n        \n    \n    \n    \n    \n\n\n    Child(ren)’s birthdates\, height\, and weight\n        \n    \n    \n    List information for all children coming to the appointment\n    \n\n\n    What type of car seat do you have?\n        \n    \n    		\n		 Rear Facing OnlyConvertible Forward FacingConvertible Rear FacingForward Facing with HarnessHigh Back BoosterNo Back BoosterI don't have oneI am not sure	\n	\n    \n    \n\n\n    Manufacturer/Model of car seat\n        \n    \n    \n    Graco 4Ever\, Chicco Keyfit\, etc.\n    \n\n\n    Need to apply for assistance?\n        \n    \n    \n\n    \n		\n		\n\n		\n			\n		\n\n			\n\n\n    \n    \n\n\n    If applying for assistance\, is your child on WIC/Medicaid/Other Assistance?\n        \n    \n    		\n		 YesNo	\n	\n    \n    \n\n\n	\n\nSubmit\n\n\n\n	\n			\n			\n				If you are human\, leave this field blank.
URL:https://www.hancockhealth.org/event/car-seat-safety-check/2024-12-30/
LOCATION:Hancock Regional Hospital\, 801 N. State St.\, Greenfield\, IN\, 46140\, United States
CATEGORIES:Event
END:VEVENT
END:VCALENDAR