BEGIN:VCALENDAR
VERSION:2.0
PRODID:-//Hancock Health - ECPv6.15.20//NONSGML v1.0//EN
CALSCALE:GREGORIAN
METHOD:PUBLISH
X-WR-CALNAME:Hancock Health
X-ORIGINAL-URL:https://www.hancockhealth.org
X-WR-CALDESC:Events for Hancock Health
REFRESH-INTERVAL;VALUE=DURATION:PT1H
X-Robots-Tag:noindex
X-PUBLISHED-TTL:PT1H
BEGIN:VTIMEZONE
TZID:UTC
BEGIN:STANDARD
TZOFFSETFROM:+0000
TZOFFSETTO:+0000
TZNAME:UTC
DTSTART:20240101T000000
END:STANDARD
END:VTIMEZONE
BEGIN:VEVENT
DTSTART;TZID=UTC:20250827T110000
DTEND;TZID=UTC:20250827T130000
DTSTAMP:20260420T112510
CREATED:20240306T220814Z
LAST-MODIFIED:20251010T125754Z
UID:10005796-1756292400-1756299600@www.hancockhealth.org
SUMMARY:ACE Interface Training @ Connection Center
DESCRIPTION:Apr\n          27\n        \n\n        ACE Interface Training \n\n      \n\n      \n  \n        April\n        27\,\n         – \n        \n\n      \n\n      \n        ACE Interface Trainings are a FREE 2-hour training that offers a proven educational framework about the ACE study\, along with neurobiology explaining why ACEs (Adverse Childhood Experiences) have so much effect in people’s lives\, including brain development and how our bodies respond to stress. Additionally\, trainings showcase what we can all do to dramatically improve health and resilience for this and future generations. \n      \n\n      \n\n\n    \n\n    \n\n      \n        Details\n\n        \n          DATE:\n          April 27\, 2026\n        \n\n        \n          TIME:\n           –\n          \n        \n\n                \n          CATEGORY:\n          Classes        \n        \n        \n      \n\n            \n        Venue\n        \n          Hancock Health Connection Center\n          120 W. McKenzie Rd.\, Suite G\, Greenfield\, IN        \n      \n      \n            \n        Organizer\n\n        \n          Hancock Health Connection Center\n        \n\n                \n          Phone:\n          (317) 468-4231\n        \n        \n              \n      \n\n    \n\n  \n\n\n\n\n\n\n\n\n\n\n\n\n\nACE Interface Training Registration\n\n\n\n\n\n\n\n\n    First Name\n        *\n    \n    \n    \n    \n\n\n    Last Name\n        \n    \n    \n    \n    \n\n\n    Organization\n        \n    \n    \n    \n    \n\n\n    Email\n        *\n    \n    \n    \n    \n\n\n    Phone\n        \n    \n    \n    \n    \n\n\n    Please choose class date and time.\n        \n    \n    		\n		November 17th 5:30 pm – 7:30 pm McCordsville Wellness Center	\n	\n    \n    \n\n\n	\nSubmit\n\n\n\n\n\n	\n			\n			\n				If you are human\, leave this field blank.
URL:https://www.hancockhealth.org/event/ace-interface-training-3/2025-08-27/
LOCATION:Hancock Health Connection Center\, 120 W. McKenzie Rd.\, Suite G\, Greenfield\, IN\, 46140\, United States
CATEGORIES:Classes
END:VEVENT
END:VCALENDAR