BEGIN:VCALENDAR
VERSION:2.0
PRODID:-//Hancock Health - ECPv6.15.20//NONSGML v1.0//EN
CALSCALE:GREGORIAN
METHOD:PUBLISH
X-ORIGINAL-URL:https://www.hancockhealth.org
X-WR-CALDESC:Events for Hancock Health
REFRESH-INTERVAL;VALUE=DURATION:PT1H
X-Robots-Tag:noindex
X-PUBLISHED-TTL:PT1H
BEGIN:VTIMEZONE
TZID:UTC
BEGIN:STANDARD
TZOFFSETFROM:+0000
TZOFFSETTO:+0000
TZNAME:UTC
DTSTART:20230101T000000
END:STANDARD
END:VTIMEZONE
BEGIN:VTIMEZONE
TZID:America/Indiana/Indianapolis
BEGIN:DAYLIGHT
TZOFFSETFROM:-0500
TZOFFSETTO:-0400
TZNAME:EDT
DTSTART:20230312T070000
END:DAYLIGHT
BEGIN:STANDARD
TZOFFSETFROM:-0400
TZOFFSETTO:-0500
TZNAME:EST
DTSTART:20231105T060000
END:STANDARD
BEGIN:DAYLIGHT
TZOFFSETFROM:-0500
TZOFFSETTO:-0400
TZNAME:EDT
DTSTART:20240310T070000
END:DAYLIGHT
BEGIN:STANDARD
TZOFFSETFROM:-0400
TZOFFSETTO:-0500
TZNAME:EST
DTSTART:20241103T060000
END:STANDARD
BEGIN:DAYLIGHT
TZOFFSETFROM:-0500
TZOFFSETTO:-0400
TZNAME:EDT
DTSTART:20250309T070000
END:DAYLIGHT
BEGIN:STANDARD
TZOFFSETFROM:-0400
TZOFFSETTO:-0500
TZNAME:EST
DTSTART:20251102T060000
END:STANDARD
END:VTIMEZONE
BEGIN:VEVENT
DTSTART;TZID=UTC:20241015T103000
DTEND;TZID=UTC:20241015T113000
DTSTAMP:20260423T133440
CREATED:20231102T001337Z
LAST-MODIFIED:20231102T002241Z
UID:10005359-1728988200-1728991800@www.hancockhealth.org
SUMMARY:Breastfeeding Support Group
DESCRIPTION:Apr\n          27\n        \n\n        Breastfeeding Support Group\n\n      \n\n      \n  \n        April\n        27\,\n         – \n        \n\n      \n\n      \n        Meet other breastfeeding moms in a FREE fun and informal environment. No appointment necessary; just drop in if you are nursing. \nCertified Lactation Consultants are available to offer support and guidance while you and your baby are getting to know each other. Scales are available to monitor your baby’s weight gain. This group is intended only for moms nursing babies or children. \nGroup Meets every Tuesday (except holidays) from 10:30 am – 11:30 am. Contact Katrina Leary  or Becky Fontaine or call at (317) 468-4397. \n      \n\n      \n\n\n    \n\n    \n\n      \n        Details\n\n        \n          DATE:\n          April 27\, 2026\n        \n\n        \n          TIME:\n           –\n          \n        \n\n                \n          CATEGORY:\n          Classes        \n        \n        \n      \n\n            \n        Venue\n        \n          Hancock Regional Hospital\n          801 N. State St.\, Greenfield\, IN        \n      \n      \n            \n        Organizer\n\n        \n          Hancock Health\n        \n\n                \n          Phone:\n          (317) 462-5544\n        \n        \n                \n          Email:\n          info@hancockregional.org
URL:https://www.hancockhealth.org/event/breastfeeding-support-group/2024-10-15/
LOCATION:Hancock Regional Hospital\, 801 N. State St.\, Greenfield\, IN\, 46140\, United States
CATEGORIES:Support Groups
END:VEVENT
BEGIN:VEVENT
DTSTART;TZID=America/Indiana/Indianapolis:20241015T110000
DTEND;TZID=America/Indiana/Indianapolis:20241015T123000
DTSTAMP:20260423T133440
CREATED:20240930T142146Z
LAST-MODIFIED:20241001T121653Z
UID:10005643-1728990000-1728995400@www.hancockhealth.org
SUMMARY:Annual Hancock Health Pregnancy & Infant Loss Remembrance Day
DESCRIPTION:Apr\n          27\n        \n\n        Annual Hancock Health Pregnancy & Infant Loss Remembrance Day\n\n      \n\n      \n  \n        April\n        27\,\n         – \n        \n\n      \n\n      \n        If you have experienced a pregnancy loss or death of a newborn\, Hancock Health invites you to join our Spiritual Care team for a special Remembrance Day event. This annual Hancock Health memorial service is offered to celebrate and remember the lives that have been lost. \nRSVP is not required but is helpful to receive a candle and have your baby’s name read during the ceremony. Please call 317-468-4500 or email lbaker@hancockhealth.org \n      \n\n      \n\n\n    \n\n    \n\n      \n        Details\n\n        \n          DATE:\n          April 27\, 2026\n        \n\n        \n          TIME:\n           –\n          \n        \n\n                \n          CATEGORY:\n          Classes        \n        \n        \n      \n\n            \n        Venue\n        \n          Park Cemetery\n          621 S State St\, Greenfield\, Indiana        \n      \n      \n            \n        Organizer\n\n        \n          Hancock Health\n        \n\n                \n          Phone:\n          (317) 462-5544\n        \n        \n                \n          Email:\n          info@hancockregional.org
URL:https://www.hancockhealth.org/event/annual-hancock-health-pregnancy-infant-loss-remembrance-day/
LOCATION:Park Cemetery\, 621 S State St\, Greenfield\, Indiana\, 46140\, United States
CATEGORIES:Event,Support Groups
END:VEVENT
BEGIN:VEVENT
DTSTART;TZID=UTC:20241015T140000
DTEND;TZID=UTC:20241015T150000
DTSTAMP:20260423T133440
CREATED:20230830T074505Z
LAST-MODIFIED:20230918T223739Z
UID:10004202-1729000800-1729004400@www.hancockhealth.org
SUMMARY:Caregivers Support
DESCRIPTION:Apr\n          27\n        \n\n        Caregivers Support\n\n      \n\n      \n  \n        April\n        27\,\n         – \n        \n\n      \n\n      \n        Our Caregivers Support group is open to any person who cares for a loved one\, whether that person has cancer or any other illness. Meetings are from 2 p.m. to 3 p.m. on the first and third Tuesdays of each month\, in the Resource Lounge area of the Sue Ann Wortman Cancer Center. This is a drop-in group\, and no reservations are necessary. \nQuestions may be directed to Amy at abender@hancockregional.org or (317) 325-2643. \n      \n\n      \n\n\n    \n\n    \n\n      \n        Details\n\n        \n          DATE:\n          April 27\, 2026\n        \n\n        \n          TIME:\n           –\n          \n        \n\n                \n          CATEGORY:\n          Classes        \n        \n        \n      \n\n            \n        Venue\n        \n          Sue Ann Wortman Cancer Center\n          801 N. State St.\, Greenfield\, IN        \n      \n      \n            \n        Organizer\n\n        \n          Hancock Health\n        \n\n                \n          Phone:\n          (317) 462-5544\n        \n        \n                \n          Email:\n          info@hancockregional.org
URL:https://www.hancockhealth.org/event/caregivers-support-2/2024-10-15/
LOCATION:Sue Ann Wortman Cancer Center\, 801 N. State St.\, Greenfield\, IN\, 46140\, United States
CATEGORIES:Support Groups
END:VEVENT
END:VCALENDAR