BEGIN:VCALENDAR
VERSION:2.0
PRODID:-//Hancock Health - ECPv6.15.20//NONSGML v1.0//EN
CALSCALE:GREGORIAN
METHOD:PUBLISH
X-ORIGINAL-URL:https://www.hancockhealth.org
X-WR-CALDESC:Events for Hancock Health
REFRESH-INTERVAL;VALUE=DURATION:PT1H
X-Robots-Tag:noindex
X-PUBLISHED-TTL:PT1H
BEGIN:VTIMEZONE
TZID:UTC
BEGIN:STANDARD
TZOFFSETFROM:+0000
TZOFFSETTO:+0000
TZNAME:UTC
DTSTART:20230101T000000
END:STANDARD
END:VTIMEZONE
BEGIN:VEVENT
DTSTART;TZID=UTC:20240904T083000
DTEND;TZID=UTC:20240904T130000
DTSTAMP:20260423T094831
CREATED:20231030T233952Z
LAST-MODIFIED:20240918T183310Z
UID:10005447-1725438600-1725454800@www.hancockhealth.org
SUMMARY:CPR for Healthcare Providers (BLS) Class
DESCRIPTION:Apr\n          27\n        \n\n        CPR for Healthcare Providers (BLS) Class\n\n      \n\n      \n  \n        April\n        27\,\n         – \n        \n\n      \n\n      \n        This Basic Life Support (BLS) certificate class is designed for EMS personnel\, physicians\, medical office assistants\, dentists\, nurses\, and respiratory therapists who require a credential (card) documenting successful completion of a CPR course. For more information\, contact Jocelyn Morris at (317) 468-4551 or email jmorris@hancockregional.org. \n  \n      \n\n      \n\n\n    \n\n    \n\n      \n        Details\n\n        \n          DATE:\n          April 27\, 2026\n        \n\n        \n          TIME:\n           –\n          \n        \n\n                \n          CATEGORY:\n          Classes        \n        \n        \n      \n\n            \n        Venue\n        \n          Hancock Regional Hospital\n          801 N. State St.\, Greenfield\, IN        \n      \n      \n            \n        Organizer\n\n        \n          Hancock Health\n        \n\n                \n          Phone:\n          (317) 462-5544\n        \n        \n                \n          Email:\n          info@hancockregional.org\n        \n              \n      \n\n    \n\n  \n\n\n\n\n\n\n\n\n\n\n\n\n\nCPR FOR HEALTHCARE PROVIDERS (BLS) CLASS\n\n\n\n\n\n\n\nThe American Heart Association strongly promotes knowledge and proficiency in all AHA courses and has developed instructional materials for this purpose. Use of these materials in an educational course does not represent course sponsorship by the AHA. Any fees charged for such a course\, except for a portion of fees needed for AHA course materials\, do not represent income to the AHA.\n\nPayment Identification\n\n\n\n    Attendee’s Name\n        *\n    \n    \n    \n    \n\n\n    DOB\n        *\n    \n    \n    \n    \n\n\n    Address\n        *\n    \n    \n\n	Address\n\n\n	\n		Address	\n		\n	\n\n	\n		Address	\n		\n	\n\n	\n		City	\n		\n	City\n\n	\n		State/Province	\n			\n			\n				 			\n			AlabamaAlaskaArkansasArizonaCaliforniaColoradoConnecticutDelawareDistrict of ColumbiaFloridaGeorgiaHawaiiIdahoIllinoisIndianaIowaKansasKentuckyLouisianaMaineMarylandMassachusettsMichiganMinnesotaMississippiMissouriMontanaNebraskaNevadaNew HampshireNew JerseyNew MexicoNew YorkNorth CarolinaNorth DakotaOhioOklahomaOregonPennsylvaniaRhode IslandSouth CarolinaSouth DakotaTennesseeTexasUtahVermontVirginiaWashingtonWest VirginiaWisconsinWyoming		\n	State/Province\n\n	\n		Zip/Postal	\n		\n	Zip/Postal\n\n	\n		Address	\n		\n	\n\n\n\n    \n    \n\n\n    Course Name\n        \n    \n    \n    \n    \n\n\n    Course Date and Time\n        *\n    \n    		\n		Select Date and Time3/10/26 8:30 am – 1:00pm3/26/26 8:30 am – 1:00pm4/15/26 8:30 am – 1:00pm4/28/26 8:30 am – 1:00pm5/7/26 8:30 am – 1:00pm5/19/26 8:30 am – 1:00pm6/3/26 8:30 am – 1:00pm6/23/26 8:30 am – 1:00pm7/9/26 8:30 am – 1:00pm7/28/26 8:30 am – 1:00pm8/12/26 8:30 am – 1:00pm8/27/26 8:30 am – 1:00pm9/10/26 8:30 am – 1:00pm10/7/26 8:30 am – 1:00pm10/27/26 8:30 am – 1:00pm11/11/26 8:30 am – 1:00pm12/3/26 8:30 am – 1:00pm12/16/26 8:30 am – 1:00pm	\n	\n    \n    \n\n\n    Course Description\n        \n    \n    \n    \n    \n\n\n    Class ID Code\n        \n    \n    \n    \n    \n\n\n    Transaction Amount\n        *\n    \n    \n    \n    \n\n\n\nBilling Information\n\n\n\n    Card Holder\n        *\n    \n    \n    \n    \n\n\n    Address\n        *\n    \n    \n\n	Address\n\n\n	\n		Address	\n		\n	\n\n	\n		Address	\n		\n	\n\n	\n		City	\n		\n	City\n\n	\n		State/Province	\n			\n			\n				 			\n			AlabamaAlaskaArkansasArizonaCaliforniaColoradoConnecticutDelawareDistrict of ColumbiaFloridaGeorgiaHawaiiIdahoIllinoisIndianaIowaKansasKentuckyLouisianaMaineMarylandMassachusettsMichiganMinnesotaMississippiMissouriMontanaNebraskaNevadaNew HampshireNew JerseyNew MexicoNew YorkNorth CarolinaNorth DakotaOhioOklahomaOregonPennsylvaniaRhode IslandSouth CarolinaSouth DakotaTennesseeTexasUtahVermontVirginiaWashingtonWest VirginiaWisconsinWyoming		\n	State/Province\n\n	\n		Zip/Postal	\n		\n	Zip/Postal\n\n	\n		Address	\n		\n	\n\n\n\n    \n    \n\n\n    Contact Phone\n        *\n    \n    \n    \n    \n\n\n    Contact Email\n        *\n    \n    \n    \n    \n\n\n    Credit Card\n        *\n    \n    \n\n\n\n    \n    \n\n\n		\n		\n	\n\nSubmit\n\n\n\n	\n			\n			\n				If you are human\, leave this field blank.
URL:https://www.hancockhealth.org/event/cpr-for-healthcare-providers-bls-class-2/2024-09-04/
LOCATION:Hancock Regional Hospital\, 801 N. State St.\, Greenfield\, IN\, 46140\, United States
END:VEVENT
BEGIN:VEVENT
DTSTART;TZID=UTC:20240904T183000
DTEND;TZID=UTC:20240904T200000
DTSTAMP:20260423T094831
CREATED:20230915T200024Z
LAST-MODIFIED:20231101T214129Z
UID:10003719-1725474600-1725480000@www.hancockhealth.org
SUMMARY:Smart Recovery - Friends and Family (Virtual)
DESCRIPTION:Apr\n          27\n        \n\n        Smart Recovery – Friends and Family (Virtual)\n\n      \n\n      \n  \n        April\n        27\,\n         – \n        \n\n      \n\n      \n        Virtual on Wednesday 6:30 p.m. to 8 p.m. \nEnter meeting ID: 96712347613. \n      \n\n       \n      \n        Sign In To The Meeting\n      \n      \n\n\n    \n\n    \n\n      \n        Details\n\n        \n          DATE:\n          April 27\, 2026\n        \n\n        \n          TIME:\n           –\n          \n        \n\n                \n          CATEGORY:\n          Classes        \n        \n        \n      \n\n            \n        Venue\n        \n          Virtual Meeting\n          virtual\, Greenfield\, IN        \n      \n      \n            \n        Organizer\n\n        \n          SMART Recovery
URL:https://www.hancockhealth.org/event/smart-recovery-friends-and-family-virtual-2/2024-09-04/
LOCATION:Virtual Meeting\, virtual\, Greenfield\, IN\, 46140\, United States
CATEGORIES:Support Groups
END:VEVENT
BEGIN:VEVENT
DTSTART;TZID=UTC:20240904T183000
DTEND;TZID=UTC:20240904T200000
DTSTAMP:20260423T094831
CREATED:20231023T205122Z
LAST-MODIFIED:20231101T214031Z
UID:10005149-1725474600-1725480000@www.hancockhealth.org
SUMMARY:Smart Recovery Wednesday Meetup
DESCRIPTION:Apr\n          27\n        \n\n        Smart Recovery Wednesday Meetup\n\n      \n\n      \n  \n        April\n        27\,\n         – \n        \n\n      \n\n      \n        QPR is an emergency response that you can learn to save someone’s life if they are considering self-harm or suicide.      \n\n      \n\n\n    \n\n    \n\n      \n        Details\n\n        \n          DATE:\n          April 27\, 2026\n        \n\n        \n          TIME:\n           –\n          \n        \n\n                \n          CATEGORY:\n          Classes        \n        \n        \n      \n\n            \n        Venue\n        \n          Hancock County Public Library\n          900 W. McKenzie Rd.\, Greenfield\, IN        \n      \n      \n            \n        Organizer\n\n        \n          SMART Recovery
URL:https://www.hancockhealth.org/event/smart-recovery-wednesday-meetup-2/2024-09-04/
LOCATION:Hancock County Public Library\, 900 W. McKenzie Rd.\, Greenfield\, IN\, 46140\, United States
CATEGORIES:Support Groups
END:VEVENT
END:VCALENDAR