BEGIN:VCALENDAR
VERSION:2.0
PRODID:-//Hancock Health - ECPv6.15.20//NONSGML v1.0//EN
CALSCALE:GREGORIAN
METHOD:PUBLISH
X-ORIGINAL-URL:https://www.hancockhealth.org/es
X-WR-CALDESC:Eventos para Hancock Health
REFRESH-INTERVAL;VALUE=DURATION:PT1H
X-Robots-Tag:noindex
X-PUBLISHED-TTL:PT1H
BEGIN:VTIMEZONE
TZID:UTC
BEGIN:STANDARD
TZOFFSETFROM:+0000
TZOFFSETTO:+0000
TZNAME:UTC
DTSTART:20240101T000000
END:STANDARD
END:VTIMEZONE
BEGIN:VEVENT
DTSTART;TZID=UTC:20251020T114500
DTEND;TZID=UTC:20251020T124500
DTSTAMP:20260420T032107
CREATED:20240917T150554Z
LAST-MODIFIED:20240917T150555Z
UID:10005613-1760960700-1760964300@www.hancockhealth.org
SUMMARY:Sisters and Brothers in Sobriety Closed* Meetings
DESCRIPTION:Abr\n          27\n        \n\n        Sisters and Brothers in Sobriety Closed* Meetings\n\n      \n\n      \n  \n        abril\n        27\,\n         – \n        \n\n      \n\n      \n        In support of A.A.’s singleness of purpose\, attendance at closed meetings is limited to persons who have a desire to stop drinking. If you think you have a problem with alcohol\, you are welcome to attend this meeting. Classes meet in the Education Room. Childcare available (with fee). \n      \n\n      \n\n\n    \n\n    \n\n      \n        Details\n\n        \n          DATE:\n          abril 27\, 2026\n        \n\n        \n          TIME:\n           –\n          \n        \n\n                \n          CATEGORY:\n          Classes        \n        \n        \n      \n\n            \n        Venue\n        \n          Hancock Wellness – McCordsville\n          8505 N. Clearview Dr.\, McCordsville\, IN        \n      \n      \n            \n        Organizer\n\n        \n          Sisters and Brothers in Sobriety\n        \n\n        \n                \n          Email:\n          mbergamo@hancockhealth.org
URL:https://www.hancockhealth.org/es/event/sisters-and-brothers-in-sobriety-closed-meetings/2025-10-20/
LOCATION:Hancock Wellness – McCordsville\, 8505 N. Clearview Dr.\, McCordsville\, IN\, 46055\, United States
CATEGORIES:Support Groups
END:VEVENT
BEGIN:VEVENT
DTSTART;TZID=UTC:20251023T083000
DTEND;TZID=UTC:20251023T130000
DTSTAMP:20260420T032107
CREATED:20240918T193118Z
LAST-MODIFIED:20260216T160934Z
UID:10005755-1761208200-1761224400@www.hancockhealth.org
SUMMARY:CPR for Healthcare Providers (BLS) Class
DESCRIPTION:Abr\n          27\n        \n\n        CPR for Healthcare Providers (BLS) Class\n\n      \n\n      \n  \n        abril\n        27\,\n         – \n        \n\n      \n\n      \n        This Basic Life Support (BLS) certificate class is designed for EMS personnel\, physicians\, medical office assistants\, dentists\, nurses\, and respiratory therapists who require a credential (card) documenting successful completion of a CPR course. For more information\, contact Jocelyn Morris at (317) 468-4551 or email jmorris2@hancockhealth.org. \n      \n\n      \n\n\n    \n\n    \n\n      \n        Details\n\n        \n          DATE:\n          abril 27\, 2026\n        \n\n        \n          TIME:\n           –\n          \n        \n\n                \n          CATEGORY:\n          Classes        \n        \n        \n      \n\n            \n        Venue\n        \n          Hancock Regional Hospital\n          801 N. State St.\, Greenfield\, IN        \n      \n      \n            \n        Organizer\n\n        \n          Hancock Health\n        \n\n                \n          Phone:\n          (317) 462-5544\n        \n        \n                \n          Email:\n          info@hancockregional.org\n        \n              \n      \n\n    \n\n  \n\n\n\n\n\n\n\n\n\n\n\n\n\nCPR FOR HEALTHCARE PROVIDERS (BLS) CLASS\n\n\n\n\n\n\n\nThe American Heart Association strongly promotes knowledge and proficiency in all AHA courses and has developed instructional materials for this purpose. Use of these materials in an educational course does not represent course sponsorship by the AHA. Any fees charged for such a course\, except for a portion of fees needed for AHA course materials\, do not represent income to the AHA.\n\nPayment Identification\n\n\n\n    Attendee’s Name\n        *\n    \n    \n    \n    \n\n\n    DOB\n        *\n    \n    \n    \n    \n\n\n    Address\n        *\n    \n    \n\n	Address\n\n\n	\n		Address	\n		\n	\n\n	\n		Address	\n		\n	\n\n	\n		City	\n		\n	City\n\n	\n		State/Province	\n			\n			\n				 			\n			AlabamaAlaskaArkansasArizonaCaliforniaColoradoConnecticutDelawareDistrict of ColumbiaFloridaGeorgiaHawaiiIdahoIllinoisIndianaIowaKansasKentuckyLouisianaMaineMarylandMassachusettsMichiganMinnesotaMississippiMissouriMontanaNebraskaNevadaNew HampshireNew JerseyNew MexicoNew YorkNorth CarolinaNorth DakotaOhioOklahomaOregonPennsylvaniaRhode IslandSouth CarolinaSouth DakotaTennesseeTexasUtahVermontVirginiaWashingtonWest VirginiaWisconsinWyoming		\n	State/Province\n\n	\n		Zip/Postal	\n		\n	Zip/Postal\n\n	\n		Address	\n		\n	\n\n\n\n    \n    \n\n\n    Course Name\n        \n    \n    \n    \n    \n\n\n    Course Date and Time\n        *\n    \n    		\n		Select Date and Time3/10/26 8:30 am – 1:00pm3/26/26 8:30 am – 1:00pm4/15/26 8:30 am – 1:00pm4/28/26 8:30 am – 1:00pm5/7/26 8:30 am – 1:00pm5/19/26 8:30 am – 1:00pm6/3/26 8:30 am – 1:00pm6/23/26 8:30 am – 1:00pm7/9/26 8:30 am – 1:00pm7/28/26 8:30 am – 1:00pm8/12/26 8:30 am – 1:00pm8/27/26 8:30 am – 1:00pm9/10/26 8:30 am – 1:00pm10/7/26 8:30 am – 1:00pm10/27/26 8:30 am – 1:00pm11/11/26 8:30 am – 1:00pm12/3/26 8:30 am – 1:00pm12/16/26 8:30 am – 1:00pm	\n	\n    \n    \n\n\n    Course Description\n        \n    \n    \n    \n    \n\n\n    Class ID Code\n        \n    \n    \n    \n    \n\n\n    Transaction Amount\n        *\n    \n    \n    \n    \n\n\n\nBilling Information\n\n\n\n    Card Holder\n        *\n    \n    \n    \n    \n\n\n    Address\n        *\n    \n    \n\n	Address\n\n\n	\n		Address	\n		\n	\n\n	\n		Address	\n		\n	\n\n	\n		City	\n		\n	City\n\n	\n		State/Province	\n			\n			\n				 			\n			AlabamaAlaskaArkansasArizonaCaliforniaColoradoConnecticutDelawareDistrict of ColumbiaFloridaGeorgiaHawaiiIdahoIllinoisIndianaIowaKansasKentuckyLouisianaMaineMarylandMassachusettsMichiganMinnesotaMississippiMissouriMontanaNebraskaNevadaNew HampshireNew JerseyNew MexicoNew YorkNorth CarolinaNorth DakotaOhioOklahomaOregonPennsylvaniaRhode IslandSouth CarolinaSouth DakotaTennesseeTexasUtahVermontVirginiaWashingtonWest VirginiaWisconsinWyoming		\n	State/Province\n\n	\n		Zip/Postal	\n		\n	Zip/Postal\n\n	\n		Address	\n		\n	\n\n\n\n    \n    \n\n\n    Contact Phone\n        *\n    \n    \n    \n    \n\n\n    Contact Email\n        *\n    \n    \n    \n    \n\n\n    Credit Card\n        *\n    \n    \n\n\n\n    \n    \n\n\n		\n		\n	\n\nSubmit\n\n\n\n	\n			\n			\n				If you are human\, leave this field blank.
URL:https://www.hancockhealth.org/es/event/cpr-for-healthcare-providers-bls-class-4/2025-10-23/
LOCATION:Hancock Regional Hospital\, 801 N. State St.\, Greenfield\, IN\, 46140\, United States
CATEGORIES:Classes
END:VEVENT
END:VCALENDAR