BEGIN:VCALENDAR
VERSION:2.0
PRODID:-//Hancock Health - ECPv6.15.20//NONSGML v1.0//EN
CALSCALE:GREGORIAN
METHOD:PUBLISH
X-ORIGINAL-URL:https://www.hancockhealth.org/es
X-WR-CALDESC:Eventos para Hancock Health
REFRESH-INTERVAL;VALUE=DURATION:PT1H
X-Robots-Tag:noindex
X-PUBLISHED-TTL:PT1H
BEGIN:VTIMEZONE
TZID:UTC
BEGIN:STANDARD
TZOFFSETFROM:+0000
TZOFFSETTO:+0000
TZNAME:UTC
DTSTART:20230101T000000
END:STANDARD
END:VTIMEZONE
BEGIN:VEVENT
DTSTART;TZID=UTC:20241120T183000
DTEND;TZID=UTC:20241120T200000
DTSTAMP:20260423T075055
CREATED:20230915T200024Z
LAST-MODIFIED:20231101T214129Z
UID:10003730-1732127400-1732132800@www.hancockhealth.org
SUMMARY:Smart Recovery - Friends and Family (Virtual)
DESCRIPTION:Abr\n          27\n        \n\n        Smart Recovery – Friends and Family (Virtual)\n\n      \n\n      \n  \n        abril\n        27\,\n         – \n        \n\n      \n\n      \n        Virtual on Wednesday 6:30 p.m. to 8 p.m. \nEnter meeting ID: 96712347613. \n      \n\n       \n      \n        Sign In To The Meeting\n      \n      \n\n\n    \n\n    \n\n      \n        Details\n\n        \n          DATE:\n          abril 27\, 2026\n        \n\n        \n          TIME:\n           –\n          \n        \n\n                \n          CATEGORY:\n          Classes        \n        \n        \n      \n\n            \n        Venue\n        \n          Virtual Meeting\n          virtual\, Greenfield\, IN        \n      \n      \n            \n        Organizer\n\n        \n          SMART Recovery
URL:https://www.hancockhealth.org/es/event/smart-recovery-friends-and-family-virtual-2/2024-11-20/
LOCATION:Virtual Meeting\, virtual\, Greenfield\, IN\, 46140\, United States
CATEGORIES:Support Groups
END:VEVENT
BEGIN:VEVENT
DTSTART;TZID=UTC:20241120T183000
DTEND;TZID=UTC:20241120T200000
DTSTAMP:20260423T075055
CREATED:20231023T205122Z
LAST-MODIFIED:20231101T214031Z
UID:10005160-1732127400-1732132800@www.hancockhealth.org
SUMMARY:Smart Recovery Wednesday Meetup
DESCRIPTION:Abr\n          27\n        \n\n        Smart Recovery Wednesday Meetup\n\n      \n\n      \n  \n        abril\n        27\,\n         – \n        \n\n      \n\n      \n        QPR is an emergency response that you can learn to save someone’s life if they are considering self-harm or suicide.      \n\n      \n\n\n    \n\n    \n\n      \n        Details\n\n        \n          DATE:\n          abril 27\, 2026\n        \n\n        \n          TIME:\n           –\n          \n        \n\n                \n          CATEGORY:\n          Classes        \n        \n        \n      \n\n            \n        Venue\n        \n          Hancock County Public Library\n          900 W. McKenzie Rd.\, Greenfield\, IN        \n      \n      \n            \n        Organizer\n\n        \n          SMART Recovery
URL:https://www.hancockhealth.org/es/event/smart-recovery-wednesday-meetup-2/2024-11-20/
LOCATION:Hancock County Public Library\, 900 W. McKenzie Rd.\, Greenfield\, IN\, 46140\, United States
CATEGORIES:Support Groups
END:VEVENT
END:VCALENDAR