BEGIN:VCALENDAR
VERSION:2.0
PRODID:-//Hancock Health - ECPv6.15.20//NONSGML v1.0//EN
CALSCALE:GREGORIAN
METHOD:PUBLISH
X-ORIGINAL-URL:https://www.hancockhealth.org/es
X-WR-CALDESC:Eventos para Hancock Health
REFRESH-INTERVAL;VALUE=DURATION:PT1H
X-Robots-Tag:noindex
X-PUBLISHED-TTL:PT1H
BEGIN:VTIMEZONE
TZID:UTC
BEGIN:STANDARD
TZOFFSETFROM:+0000
TZOFFSETTO:+0000
TZNAME:UTC
DTSTART:20230101T000000
END:STANDARD
END:VTIMEZONE
BEGIN:VEVENT
DTSTART;TZID=UTC:20240828T173000
DTEND;TZID=UTC:20240828T193000
DTSTAMP:20260423T113706
CREATED:20240222T235655Z
LAST-MODIFIED:20240228T203451Z
UID:10005481-1724866200-1724873400@www.hancockhealth.org
SUMMARY:ACE Interface Training
DESCRIPTION:Abr\n          27\n        \n\n        ACE Interface Training\n\n      \n\n      \n  \n        abril\n        27\,\n         – \n        \n\n      \n\n      \n        ACE Interface Trainings are a FREE 2-hour training that offers a proven educational framework about the ACE study\, along with neurobiology explaining why ACEs (Adverse Childhood Experiences) have so much effect in people’s lives\, including brain development and how our bodies respond to stress. Additionally\, trainings showcase what we can all do to dramatically improve health and resilience for this and future generations. \n      \n\n      \n\n\n    \n\n    \n\n      \n        Details\n\n        \n          DATE:\n          abril 27\, 2026\n        \n\n        \n          TIME:\n           –\n          \n        \n\n                \n          CATEGORY:\n          Classes        \n        \n        \n      \n\n            \n        Venue\n        \n          Hancock Health Connection Center\n          120 W. McKenzie Rd.\, Suite G\, Greenfield\, IN        \n      \n      \n            \n        Organizer\n\n        \n          Hancock Health Connection Center\n        \n\n                \n          Phone:\n          (317) 468-4231\n        \n        \n              \n      \n\n    \n\n  \n\n\n\n\n\n\n\n\n\n\n\n\n\nACE Interface Training Registration\n\n\n\n\n\n\n\n\n    First Name\n        *\n    \n    \n    \n    \n\n\n    Last Name\n        \n    \n    \n    \n    \n\n\n    Organization\n        \n    \n    \n    \n    \n\n\n    Email\n        *\n    \n    \n    \n    \n\n\n    Phone\n        \n    \n    \n    \n    \n\n\n    Please choose class date and time.\n        \n    \n    		\n		November 17th 5:30 pm – 7:30 pm McCordsville Wellness Center	\n	\n    \n    \n\n\n	\nSubmit\n\n\n\n\n\n	\n			\n			\n				If you are human\, leave this field blank.
URL:https://www.hancockhealth.org/es/event/ace-interface-training/
LOCATION:Hancock Health Connection Center\, 120 W. McKenzie Rd.\, Suite G\, Greenfield\, IN\, 46140\, United States
CATEGORIES:Classes
END:VEVENT
BEGIN:VEVENT
DTSTART;TZID=UTC:20240828T183000
DTEND;TZID=UTC:20240828T200000
DTSTAMP:20260423T113706
CREATED:20230915T200024Z
LAST-MODIFIED:20231101T214129Z
UID:10003718-1724869800-1724875200@www.hancockhealth.org
SUMMARY:Smart Recovery - Friends and Family (Virtual)
DESCRIPTION:Abr\n          27\n        \n\n        Smart Recovery – Friends and Family (Virtual)\n\n      \n\n      \n  \n        abril\n        27\,\n         – \n        \n\n      \n\n      \n        Virtual on Wednesday 6:30 p.m. to 8 p.m. \nEnter meeting ID: 96712347613. \n      \n\n       \n      \n        Sign In To The Meeting\n      \n      \n\n\n    \n\n    \n\n      \n        Details\n\n        \n          DATE:\n          abril 27\, 2026\n        \n\n        \n          TIME:\n           –\n          \n        \n\n                \n          CATEGORY:\n          Classes        \n        \n        \n      \n\n            \n        Venue\n        \n          Virtual Meeting\n          virtual\, Greenfield\, IN        \n      \n      \n            \n        Organizer\n\n        \n          SMART Recovery
URL:https://www.hancockhealth.org/es/event/smart-recovery-friends-and-family-virtual-2/2024-08-28/
LOCATION:Virtual Meeting\, virtual\, Greenfield\, IN\, 46140\, United States
CATEGORIES:Support Groups
END:VEVENT
BEGIN:VEVENT
DTSTART;TZID=UTC:20240828T183000
DTEND;TZID=UTC:20240828T200000
DTSTAMP:20260423T113706
CREATED:20231023T205122Z
LAST-MODIFIED:20231101T214031Z
UID:10005148-1724869800-1724875200@www.hancockhealth.org
SUMMARY:Smart Recovery Wednesday Meetup
DESCRIPTION:Abr\n          27\n        \n\n        Smart Recovery Wednesday Meetup\n\n      \n\n      \n  \n        abril\n        27\,\n         – \n        \n\n      \n\n      \n        QPR is an emergency response that you can learn to save someone’s life if they are considering self-harm or suicide.      \n\n      \n\n\n    \n\n    \n\n      \n        Details\n\n        \n          DATE:\n          abril 27\, 2026\n        \n\n        \n          TIME:\n           –\n          \n        \n\n                \n          CATEGORY:\n          Classes        \n        \n        \n      \n\n            \n        Venue\n        \n          Hancock County Public Library\n          900 W. McKenzie Rd.\, Greenfield\, IN        \n      \n      \n            \n        Organizer\n\n        \n          SMART Recovery
URL:https://www.hancockhealth.org/es/event/smart-recovery-wednesday-meetup-2/2024-08-28/
LOCATION:Hancock County Public Library\, 900 W. McKenzie Rd.\, Greenfield\, IN\, 46140\, United States
CATEGORIES:Support Groups
END:VEVENT
END:VCALENDAR