BEGIN:VCALENDAR
VERSION:2.0
PRODID:-//Hancock Health - ECPv6.15.20//NONSGML v1.0//EN
CALSCALE:GREGORIAN
METHOD:PUBLISH
X-ORIGINAL-URL:https://www.hancockhealth.org/es
X-WR-CALDESC:Eventos para Hancock Health
REFRESH-INTERVAL;VALUE=DURATION:PT1H
X-Robots-Tag:noindex
X-PUBLISHED-TTL:PT1H
BEGIN:VTIMEZONE
TZID:UTC
BEGIN:STANDARD
TZOFFSETFROM:+0000
TZOFFSETTO:+0000
TZNAME:UTC
DTSTART:20230101T000000
END:STANDARD
END:VTIMEZONE
BEGIN:VEVENT
DTSTART;TZID=UTC:20240618T083000
DTEND;TZID=UTC:20240618T130000
DTSTAMP:20260424T104135
CREATED:20231030T233952Z
LAST-MODIFIED:20240918T183310Z
UID:10005442-1718699400-1718715600@www.hancockhealth.org
SUMMARY:CPR for Healthcare Providers (BLS) Class
DESCRIPTION:Abr\n          27\n        \n\n        CPR for Healthcare Providers (BLS) Class\n\n      \n\n      \n  \n        abril\n        27\,\n         – \n        \n\n      \n\n      \n        This Basic Life Support (BLS) certificate class is designed for EMS personnel\, physicians\, medical office assistants\, dentists\, nurses\, and respiratory therapists who require a credential (card) documenting successful completion of a CPR course. For more information\, contact Jocelyn Morris at (317) 468-4551 or email jmorris@hancockregional.org. \n  \n      \n\n      \n\n\n    \n\n    \n\n      \n        Details\n\n        \n          DATE:\n          abril 27\, 2026\n        \n\n        \n          TIME:\n           –\n          \n        \n\n                \n          CATEGORY:\n          Classes        \n        \n        \n      \n\n            \n        Venue\n        \n          Hancock Regional Hospital\n          801 N. State St.\, Greenfield\, IN        \n      \n      \n            \n        Organizer\n\n        \n          Hancock Health\n        \n\n                \n          Phone:\n          (317) 462-5544\n        \n        \n                \n          Email:\n          info@hancockregional.org\n        \n              \n      \n\n    \n\n  \n\n\n\n\n\n\n\n\n\n\n\n\n\nCPR FOR HEALTHCARE PROVIDERS (BLS) CLASS\n\n\n\n\n\n\n\nThe American Heart Association strongly promotes knowledge and proficiency in all AHA courses and has developed instructional materials for this purpose. Use of these materials in an educational course does not represent course sponsorship by the AHA. Any fees charged for such a course\, except for a portion of fees needed for AHA course materials\, do not represent income to the AHA.\n\nPayment Identification\n\n\n\n    Attendee’s Name\n        *\n    \n    \n    \n    \n\n\n    DOB\n        *\n    \n    \n    \n    \n\n\n    Address\n        *\n    \n    \n\n	Address\n\n\n	\n		Address	\n		\n	\n\n	\n		Address	\n		\n	\n\n	\n		City	\n		\n	City\n\n	\n		State/Province	\n			\n			\n				 			\n			AlabamaAlaskaArkansasArizonaCaliforniaColoradoConnecticutDelawareDistrict of ColumbiaFloridaGeorgiaHawaiiIdahoIllinoisIndianaIowaKansasKentuckyLouisianaMaineMarylandMassachusettsMichiganMinnesotaMississippiMissouriMontanaNebraskaNevadaNew HampshireNew JerseyNew MexicoNew YorkNorth CarolinaNorth DakotaOhioOklahomaOregonPennsylvaniaRhode IslandSouth CarolinaSouth DakotaTennesseeTexasUtahVermontVirginiaWashingtonWest VirginiaWisconsinWyoming		\n	State/Province\n\n	\n		Zip/Postal	\n		\n	Zip/Postal\n\n	\n		Address	\n		\n	\n\n\n\n    \n    \n\n\n    Course Name\n        \n    \n    \n    \n    \n\n\n    Course Date and Time\n        *\n    \n    		\n		Select Date and Time3/10/26 8:30 am – 1:00pm3/26/26 8:30 am – 1:00pm4/15/26 8:30 am – 1:00pm4/28/26 8:30 am – 1:00pm5/7/26 8:30 am – 1:00pm5/19/26 8:30 am – 1:00pm6/3/26 8:30 am – 1:00pm6/23/26 8:30 am – 1:00pm7/9/26 8:30 am – 1:00pm7/28/26 8:30 am – 1:00pm8/12/26 8:30 am – 1:00pm8/27/26 8:30 am – 1:00pm9/10/26 8:30 am – 1:00pm10/7/26 8:30 am – 1:00pm10/27/26 8:30 am – 1:00pm11/11/26 8:30 am – 1:00pm12/3/26 8:30 am – 1:00pm12/16/26 8:30 am – 1:00pm	\n	\n    \n    \n\n\n    Course Description\n        \n    \n    \n    \n    \n\n\n    Class ID Code\n        \n    \n    \n    \n    \n\n\n    Transaction Amount\n        *\n    \n    \n    \n    \n\n\n\nBilling Information\n\n\n\n    Card Holder\n        *\n    \n    \n    \n    \n\n\n    Address\n        *\n    \n    \n\n	Address\n\n\n	\n		Address	\n		\n	\n\n	\n		Address	\n		\n	\n\n	\n		City	\n		\n	City\n\n	\n		State/Province	\n			\n			\n				 			\n			AlabamaAlaskaArkansasArizonaCaliforniaColoradoConnecticutDelawareDistrict of ColumbiaFloridaGeorgiaHawaiiIdahoIllinoisIndianaIowaKansasKentuckyLouisianaMaineMarylandMassachusettsMichiganMinnesotaMississippiMissouriMontanaNebraskaNevadaNew HampshireNew JerseyNew MexicoNew YorkNorth CarolinaNorth DakotaOhioOklahomaOregonPennsylvaniaRhode IslandSouth CarolinaSouth DakotaTennesseeTexasUtahVermontVirginiaWashingtonWest VirginiaWisconsinWyoming		\n	State/Province\n\n	\n		Zip/Postal	\n		\n	Zip/Postal\n\n	\n		Address	\n		\n	\n\n\n\n    \n    \n\n\n    Contact Phone\n        *\n    \n    \n    \n    \n\n\n    Contact Email\n        *\n    \n    \n    \n    \n\n\n    Credit Card\n        *\n    \n    \n\n\n\n    \n    \n\n\n		\n		\n	\n\nSubmit\n\n\n\n	\n			\n			\n				If you are human\, leave this field blank.
URL:https://www.hancockhealth.org/es/event/cpr-for-healthcare-providers-bls-class-2/2024-06-18/
LOCATION:Hancock Regional Hospital\, 801 N. State St.\, Greenfield\, IN\, 46140\, United States
END:VEVENT
BEGIN:VEVENT
DTSTART;TZID=UTC:20240618T103000
DTEND;TZID=UTC:20240618T113000
DTSTAMP:20260424T104135
CREATED:20231102T001337Z
LAST-MODIFIED:20231102T002241Z
UID:10005342-1718706600-1718710200@www.hancockhealth.org
SUMMARY:Breastfeeding Support Group
DESCRIPTION:Abr\n          27\n        \n\n        Breastfeeding Support Group\n\n      \n\n      \n  \n        abril\n        27\,\n         – \n        \n\n      \n\n      \n        Meet other breastfeeding moms in a FREE fun and informal environment. No appointment necessary; just drop in if you are nursing. \nCertified Lactation Consultants are available to offer support and guidance while you and your baby are getting to know each other. Scales are available to monitor your baby’s weight gain. This group is intended only for moms nursing babies or children. \nGroup Meets every Tuesday (except holidays) from 10:30 am – 11:30 am. Contact Katrina Leary  or Becky Fontaine or call at (317) 468-4397. \n      \n\n      \n\n\n    \n\n    \n\n      \n        Details\n\n        \n          DATE:\n          abril 27\, 2026\n        \n\n        \n          TIME:\n           –\n          \n        \n\n                \n          CATEGORY:\n          Classes        \n        \n        \n      \n\n            \n        Venue\n        \n          Hancock Regional Hospital\n          801 N. State St.\, Greenfield\, IN        \n      \n      \n            \n        Organizer\n\n        \n          Hancock Health\n        \n\n                \n          Phone:\n          (317) 462-5544\n        \n        \n                \n          Email:\n          info@hancockregional.org
URL:https://www.hancockhealth.org/es/event/breastfeeding-support-group/2024-06-18/
LOCATION:Hancock Regional Hospital\, 801 N. State St.\, Greenfield\, IN\, 46140\, United States
CATEGORIES:Support Groups
END:VEVENT
BEGIN:VEVENT
DTSTART;TZID=UTC:20240618T140000
DTEND;TZID=UTC:20240618T150000
DTSTAMP:20260424T104135
CREATED:20230830T074505Z
LAST-MODIFIED:20230918T223739Z
UID:10004198-1718719200-1718722800@www.hancockhealth.org
SUMMARY:Caregivers Support
DESCRIPTION:Abr\n          27\n        \n\n        Caregivers Support\n\n      \n\n      \n  \n        abril\n        27\,\n         – \n        \n\n      \n\n      \n        Our Caregivers Support group is open to any person who cares for a loved one\, whether that person has cancer or any other illness. Meetings are from 2 p.m. to 3 p.m. on the first and third Tuesdays of each month\, in the Resource Lounge area of the Sue Ann Wortman Cancer Center. This is a drop-in group\, and no reservations are necessary. \nQuestions may be directed to Amy at abender@hancockregional.org or (317) 325-2643. \n      \n\n      \n\n\n    \n\n    \n\n      \n        Details\n\n        \n          DATE:\n          abril 27\, 2026\n        \n\n        \n          TIME:\n           –\n          \n        \n\n                \n          CATEGORY:\n          Classes        \n        \n        \n      \n\n            \n        Venue\n        \n          Sue Ann Wortman Cancer Center\n          801 N. State St.\, Greenfield\, IN        \n      \n      \n            \n        Organizer\n\n        \n          Hancock Health\n        \n\n                \n          Phone:\n          (317) 462-5544\n        \n        \n                \n          Email:\n          info@hancockregional.org
URL:https://www.hancockhealth.org/es/event/caregivers-support-2/2024-06-18/
LOCATION:Sue Ann Wortman Cancer Center\, 801 N. State St.\, Greenfield\, IN\, 46140\, United States
CATEGORIES:Support Groups
END:VEVENT
END:VCALENDAR