BEGIN:VCALENDAR
VERSION:2.0
PRODID:-//Hancock Health - ECPv6.15.20//NONSGML v1.0//EN
CALSCALE:GREGORIAN
METHOD:PUBLISH
X-WR-CALNAME:Hancock Health
X-ORIGINAL-URL:https://www.hancockhealth.org/de
X-WR-CALDESC:Veranstaltungen für Hancock Health
REFRESH-INTERVAL;VALUE=DURATION:PT1H
X-Robots-Tag:noindex
X-PUBLISHED-TTL:PT1H
BEGIN:VTIMEZONE
TZID:UTC
BEGIN:STANDARD
TZOFFSETFROM:+0000
TZOFFSETTO:+0000
TZNAME:UTC
DTSTART:20240101T000000
END:STANDARD
END:VTIMEZONE
BEGIN:VEVENT
DTSTART;TZID=UTC:20250821T173000
DTEND;TZID=UTC:20250821T193000
DTSTAMP:20260420T162526
CREATED:20240815T165637Z
LAST-MODIFIED:20250821T143210Z
UID:10005770-1755797400-1755804600@www.hancockhealth.org
SUMMARY:Question\, Persuade\, Refer (QPR) at The Connection Center
DESCRIPTION:Apr.\n          27\n        \n\n        QPR Suicide Prevention Training \n\n      \n\n      \n  \n        April\n        27\,\n         – \n        \n\n      \n\n      \n        Just like CPR\, QPR is an emergency response that you can learn to save someone’s life if they are considering self-harm or suicide. Let us help you find a local QPR suicide prevention training right here in Hancock County. \nIf you are interested in hosting or attending a QPR class\, contact a Support Navigator at (317) 468-4231 or register online by clicking the button below. \n      \n\n      \n\n\n    \n\n    \n\n      \n        Details\n\n        \n          DATE:\n          April 27\, 2026\n        \n\n        \n          TIME:\n           –\n          \n        \n\n                \n          CATEGORY:\n          Classes        \n        \n        \n      \n\n            \n        Venue\n        \n          Hancock Health Connection Center\n          120 W. McKenzie Rd.\, Suite G\, Greenfield\, IN        \n      \n      \n            \n        Organizer\n\n        \n          Hancock Health\n        \n\n                \n          Phone:\n          (317) 462-5544\n        \n        \n                \n          Email:\n          info@hancockregional.org\n        \n              \n      \n\n    \n\n  \n\n\n\n\n\n\n\n\n\n\n\nQPR\n\n\n\n\n\n\n\nPlease call the Hancock Health Connection Center office at 317-468-4231 if you have any questions about the online form. All the information you provide is strictly confidential.\n\nATTENDEE INFORMATION\n\n\n\n    Select Training Session\n        \n    \n    		\n		November 5th – 5:30p- 7:30p at Hancock Wellness Center McCordsville	\n	\n    \n    \n\n\n    Organization\n        \n    \n    \n    \n    \n\n\n    Address\n        *\n    \n    \n\n	Address\n\n\n	\n		Address	\n		\n	\n\n	\n		Address	\n		\n	\n\n	\n		City	\n		\n	City\n\n	\n		State/Province	\n		\n	State/Province\n\n	\n		Zip/Postal	\n		\n	Zip/Postal\n\n	\n		Country	\n			\n			\n				 			\n			AfghanistanAlbanienAlgerienAmerikanisch-SamoaAmerikanische JungferninselnAndorraAngolaAnguillaAntarktikaAntigua und BarbudaArgentinienArmenienArubaAserbaidschanAustralienBahamasBahrainBangladeschBarbadosBelarusBelgienBelizeBeninBermudaBhutanBolivienBonaire\, Sint Eustatius und SabaBosnien und HerzegowinaBotswanaBouvetinselBrasilienBritische JungferninselnBritisches Territorium im Indischen OzeanBruneiBulgarienBurkina FasoBurundiCôte d'IvoireChileChinaCookinselnCosta RicaCuraçaoDeutschlandDominicaDominikanische RepublikDschibutiDänemarkEcuadorEl SalvadorEritreaEstlandEswatiniFalklandinseln (Malwinen)FidschiFinnlandFrankreichFranzösisch-GuayanaFranzösisch-PolynesienFranzösische Süd- und AntarktisgebieteFäröerGabunGambiaGeorgienGhanaGibraltarGrenadaGriechenlandGrönlandGuadeloupeGuamGuatemalaGuernseyGuineaGuinea-BissauGuyanaHaitiHeardinseln und McDonaldinselnHeiliger Stuhl (Staat Vatikanstadt)HondurasHongkongIndienIndonesienIrakIranIrlandIslandIsle of ManIsraelItalienJamaikaJapanJemenJerseyJordanienKaimaninselnKambodschaKamerunKanadaKap VerdeKasachstanKatarKeniaKirgisistanKiribatiKleinere abgelegene Inseln der Vereinigten StaatenKokosinseln (Keelinginseln)KolumbienKomorenKongoKosovoKroatienKubaKuwaitLaosLesothoLettlandLibanonLiberiaLibyenLiechtensteinLitauenLuxemburgMacauMadagaskarMalawiMalaysiaMaledivenMaliMaltaMarokkoMarshallinselnMartiniqueMauretanienMauritiusMayotteMazedonienMexikoMikronesienMoldauMonacoMongoleiMontenegroMontserratMosambikMyanmarNamibiaNauruNepalNeukaledonienNeuseelandNicaraguaNiederlandeNigerNigeriaNiueNordkoreaNorfolkinselNorwegenNördliche MarianenOmanOsttimorOsttimorPakistanPalauPalästinaPanamaPapua-NeuguineaParaguayPeruPhilippinenPitcairninselnPolenPortugalPuerto RicoRuandaRumänienRusslandRéunionSaint Martin (Französisches Überseegebiet)Saint Martin (niederländischer Teil)Saint-BarthélemySaint-Pierre und MiquelonSalomonenSambiaSamoaSan MarinoSankt Helena\, Ascension und Tristan da CunhaSaudi-ArabienSchwedenSchweizSenegalSerbienSeychellenSierra LeoneSimbabweSingapurSlowakeiSlowenienSomaliaSpanienSpitzbergen und Jan MayenSri LankaSt. Kitts und NevisSt. LuciaSt. Vincent und die GrenadinenSudanSurinamSyrienSão Tomé und PríncipeSüdafrikaSüdgeorgien und die Südlichen SandwichinselnSüdkoreaSüdsudanTadschikistanTaiwanTansaniaThailandTogoTokelauTongaTrinidad und TobagoTschadTschechienTunesienTurkmenistanTurks- und CaicosinselnTuvaluTürkeiUgandaUkraineUngarnUruguayUsbekistanVanuatuVatikanstadtVenezuelaVereinigte Arabische EmirateVereinigte Staaten von AmerikaVereinigtes KönigreichVietnamWallis und FutunaWeihnachtsinselWestsaharaZentralafrikanische RepublikZypernÄgyptenÄquatorialguineaÄthiopienÅlandinselnÖsterreich		\n	Country\n\n	\n		Address	\n		\n	\n\n\n\n    \n    \n\n\n    Phone\n        \n    \n    \n    \n    \n\n\n    Select Number of Attendees\n        *\n    \n    		\n		1234	\n	\n    \n    \n\n\n    Attendee #1\n        \n    \n    \n    \n    \n\n\n    Title\n        \n    \n    \n    \n    \n\n\n    Email\n        \n    \n    \n    \n    \n\n\n    Attendee #2\n        \n    \n    \n    \n    \n\n\n    Title\n        \n    \n    \n    \n    \n\n\n    Email\n        \n    \n    \n    \n    \n\n\n    Attendee #3\n        \n    \n    \n    \n    \n\n\n    Title\n        \n    \n    \n    \n    \n\n\n    Email\n        \n    \n    \n    \n    \n\n\n    Attendee #4\n        \n    \n    \n    \n    \n\n\n    Title\n        \n    \n    \n    \n    \n\n\n    Email\n        \n    \n    \n    \n    \n\n\n\n	\nSubmit\n\n\n\n\n\n	\n			\n			\n				Falls Du menschlich bist\, lasse dieses Feld leer.
URL:https://www.hancockhealth.org/de/event/question-persuade-refer-qpr-3/2025-08-21/
LOCATION:Hancock Health Connection Center\, 120 W. McKenzie Rd.\, Suite G\, Greenfield\, IN\, 46140\, United States
CATEGORIES:Classes
END:VEVENT
END:VCALENDAR