BEGIN:VCALENDAR
VERSION:2.0
PRODID:-//Hancock Health - ECPv6.15.20//NONSGML v1.0//EN
CALSCALE:GREGORIAN
METHOD:PUBLISH
X-WR-CALNAME:Hancock Health
X-ORIGINAL-URL:https://www.hancockhealth.org/de
X-WR-CALDESC:Veranstaltungen für Hancock Health
REFRESH-INTERVAL;VALUE=DURATION:PT1H
X-Robots-Tag:noindex
X-PUBLISHED-TTL:PT1H
BEGIN:VTIMEZONE
TZID:UTC
BEGIN:STANDARD
TZOFFSETFROM:+0000
TZOFFSETTO:+0000
TZNAME:UTC
DTSTART:20230101T000000
END:STANDARD
END:VTIMEZONE
BEGIN:VEVENT
DTSTART;TZID=UTC:20241114T090000
DTEND;TZID=UTC:20241114T100000
DTSTAMP:20260423T061325
CREATED:20230830T153952Z
LAST-MODIFIED:20240104T024709Z
UID:10005415-1731574800-1731578400@www.hancockhealth.org
SUMMARY:TB Skin Test Certification Class
DESCRIPTION:Apr.\n          27\n        \n\n        TB Skin Test Certification Class\n\n      \n\n      \n  \n        April\n        27\,\n         – \n        \n\n      \n\n      \n        THE TST COURSE \n(Download instructions here) \n\nIN-TRAIN TST course is based on the CDC TST Course\nDivided into 4 learning modules and a final exam at the end.\nAt the completion of each module\, you will have a short quiz.\nModules are self paced\, not timed\nTo log on: https://in.train.org and Create an Account\n\nStep #2\n \nTB Competency Validation Check Off \n  \nFor more information\, contact Cheryl Mayes at (317) 468.4226 or email cmayes@hancockregional.org. \n      \n\n       \n      \n        To log on\n      \n      \n\n\n    \n\n    \n\n      \n        Details\n\n        \n          DATE:\n          April 27\, 2026\n        \n\n        \n          TIME:\n           –\n          \n        \n\n                \n          CATEGORY:\n          Classes        \n        \n        \n      \n\n            \n        Venue\n        \n          Hancock Regional Hospital\n          801 N. State St.\, Greenfield\, IN        \n      \n      \n      \n\n    \n\n  \n\n\n\n\n\n\n\n\n\n\n\n\n\nTB SKIN TEST CERTIFICATION COURSE\n\n\n\n\n\n\n\n\nPayment Identification\n\n\n\n    Attendee’s Name\n        *\n    \n    \n    \n    \n\n\n    DOB\n        *\n    \n    \n    \n    \n\n\n    Address\n        *\n    \n    \n\n	Address\n\n\n	\n		Address	\n		\n	\n\n	\n		Address	\n		\n	\n\n	\n		City	\n		\n	City\n\n	\n		State/Province	\n			\n			\n				 			\n			AlabamaAlaskaArkansasArizonaCaliforniaColoradoConnecticutDelawareDistrict of ColumbiaFloridaGeorgiaHawaiiIdahoIllinoisIndianaIowaKansasKentuckyLouisianaMaineMarylandMassachusettsMichiganMinnesotaMississippiMissouriMontanaNebraskaNevadaNew HampshireNew JerseyNew MexicoNew YorkNorth CarolinaNorth DakotaOhioOklahomaOregonPennsylvaniaRhode IslandSouth CarolinaSouth DakotaTennesseeTexasUtahVermontVirginiaWashingtonWest VirginiaWisconsinWyoming		\n	State/Province\n\n	\n		Zip/Postal	\n		\n	Zip/Postal\n\n	\n		Address	\n		\n	\n\n\n\n    \n    \n\n\n    Course Name\n        \n    \n    \n    \n    \n\n\n    Course Date and Time\n        *\n    \n    		\n		Select Date and TimeMarch 13\, 2024 – 9 a.m. – 10 a.m.June 13\, 2024 – 9 a.m. – 10 a.m.September 5\, 2024 – 9 a.m. – 10 a.m.November 14\, 2024 – 9 a.m. – 10 a.m.	\n	Course Date and Time\n    \n    \n\n\n    Course Description\n        \n    \n    \n    \n    \n\n\n    Class ID Code\n        \n    \n    \n    \n    \n\n\n    Course Options\n        \n    \n    \n    \n    \n\n\n    Transaction Amount\n        *\n    \n    \n    \n    \n\n\n\nBilling Information\n\n\n\n    Card Holder\n        *\n    \n    \n    \n    \n\n\n    Address\n        *\n    \n    \n\n	Address\n\n\n	\n		Address	\n		\n	\n\n	\n		Address	\n		\n	\n\n	\n		City	\n		\n	City\n\n	\n		State/Province	\n			\n			\n				 			\n			AlabamaAlaskaArkansasArizonaCaliforniaColoradoConnecticutDelawareDistrict of ColumbiaFloridaGeorgiaHawaiiIdahoIllinoisIndianaIowaKansasKentuckyLouisianaMaineMarylandMassachusettsMichiganMinnesotaMississippiMissouriMontanaNebraskaNevadaNew HampshireNew JerseyNew MexicoNew YorkNorth CarolinaNorth DakotaOhioOklahomaOregonPennsylvaniaRhode IslandSouth CarolinaSouth DakotaTennesseeTexasUtahVermontVirginiaWashingtonWest VirginiaWisconsinWyoming		\n	State/Province\n\n	\n		Zip/Postal	\n		\n	Zip/Postal\n\n	\n		Address	\n		\n	\n\n\n\n    \n    \n\n\n    Contact Phone\n        *\n    \n    \n    \n    \n\n\n    Contact Email\n        *\n    \n    \n    \n    \n\n\n    Credit Card\n        *\n    \n    \n\n\n\n    \n    \n\n\n		\n			\n			\n			\n				Falls Du menschlich bist\, lasse dieses Feld leer.			\n			\n		\n		\n\nSubmit
URL:https://www.hancockhealth.org/de/event/tb-skin-test-certification-class/2024-11-14/
LOCATION:Hancock Regional Hospital\, 801 N. State St.\, Greenfield\, IN\, 46140\, United States
CATEGORIES:Classes
END:VEVENT
BEGIN:VEVENT
DTSTART;TZID=UTC:20241114T100000
DTEND;TZID=UTC:20241114T110000
DTSTAMP:20260423T061325
CREATED:20230915T200510Z
LAST-MODIFIED:20231101T215207Z
UID:10004562-1731578400-1731582000@www.hancockhealth.org
SUMMARY:Senior Social
DESCRIPTION:Apr.\n          27\n        \n\n        Senior Social\n\n      \n\n      \n  \n        April\n        27\,\n         – \n        \n\n      \n\n      \n        This FREE and informal gathering is held every Thursday and is open to anyone—no membership required! Fun activities\, such as speakers on a variety of topics\, gentle exercise for mind and body\, nutrition information\, and senior trivia are planned for the first part of the hour\, with the remaining time for casual conversation and light refreshments. \nGroup meets every Thursday from 10 a.m. to 11 a.m. at Hancock Wellness Center\, 8505 N. Clearview Dr.\, McCordsville\, IN. \nContact tgottschalk@hancockregional.org or (317) 468-4743 for info. \n      \n\n      \n\n\n    \n\n    \n\n      \n        Details\n\n        \n          DATE:\n          April 27\, 2026\n        \n\n        \n          TIME:\n           –\n          \n        \n\n                \n          CATEGORY:\n          Classes        \n        \n        \n      \n\n            \n        Venue\n        \n          Hancock Wellness – McCordsville\n          8505 N. Clearview Dr.\, McCordsville\, IN        \n      \n      \n            \n        Organizer\n\n        \n          Hancock Health Connection Center\n        \n\n                \n          Phone:\n          (317) 468-4231
URL:https://www.hancockhealth.org/de/event/senior-social-2/2024-11-14/
LOCATION:Hancock Wellness – McCordsville\, 8505 N. Clearview Dr.\, McCordsville\, IN\, 46055\, United States
CATEGORIES:Support Groups
END:VEVENT
BEGIN:VEVENT
DTSTART;TZID=UTC:20241114T150000
DTEND;TZID=UTC:20241114T160000
DTSTAMP:20260423T061325
CREATED:20231013T165816Z
LAST-MODIFIED:20240123T010045Z
UID:10003828-1731596400-1731600000@www.hancockhealth.org
SUMMARY:Alzheimers Support
DESCRIPTION:Apr.\n          27\n        \n\n        Alzheimers Support\n\n      \n\n      \n  \n        April\n        27\,\n         – \n        \n\n      \n\n      \n        This group is for caregivers and those supporting loved ones in any stage of cognitive impairment. Meets the 2nd Thursday of every month from 3:00 p.m. to 4:00 p.m. in the Education Room of the Hancock Wellness Center Greenfield\, 888 W. New Rd.\, Greenfield\, IN 46140 \nAn Adult Care activity is provided by an Exercise Specialist for those who may need to bring their loved one with dementia along in order to attend the Support Group. \nContact tgottschalk@hancockregional.org or (317) 468-4743. \n      \n\n      \n\n\n    \n\n    \n\n      \n        Details\n\n        \n          DATE:\n          April 27\, 2026\n        \n\n        \n          TIME:\n           –\n          \n        \n\n                \n          CATEGORY:\n          Classes        \n        \n        \n      \n\n            \n        Venue\n        \n          Hancock Wellness Center Greenfield\n          888 W. New Rd.\, Greenfield\, IN        \n      \n      \n            \n        Organizer\n\n        \n          Hancock Health\n        \n\n                \n          Phone:\n          (317) 462-5544\n        \n        \n                \n          Email:\n          info@hancockregional.org
URL:https://www.hancockhealth.org/de/event/alzheimers-meetup-2/2024-11-14/
LOCATION:Hancock Wellness Center Greenfield\, 888 W. New Rd.\, Greenfield\, IN\, 46140\, United States
CATEGORIES:Support Groups
END:VEVENT
END:VCALENDAR